BEGIN:VCALENDAR
VERSION:2.0
PRODID:-//Ice Palace FSC - ECPv6.15.20//NONSGML v1.0//EN
CALSCALE:GREGORIAN
METHOD:PUBLISH
X-WR-CALNAME:Ice Palace FSC
X-ORIGINAL-URL:https://icepalace.ca
X-WR-CALDESC:Events for Ice Palace FSC
REFRESH-INTERVAL;VALUE=DURATION:PT1H
X-Robots-Tag:noindex
X-PUBLISHED-TTL:PT1H
BEGIN:VTIMEZONE
TZID:America/Edmonton
BEGIN:DAYLIGHT
TZOFFSETFROM:-0700
TZOFFSETTO:-0600
TZNAME:MDT
DTSTART:20220313T090000
END:DAYLIGHT
BEGIN:STANDARD
TZOFFSETFROM:-0600
TZOFFSETTO:-0700
TZNAME:MST
DTSTART:20221106T080000
END:STANDARD
BEGIN:DAYLIGHT
TZOFFSETFROM:-0700
TZOFFSETTO:-0600
TZNAME:MDT
DTSTART:20230312T090000
END:DAYLIGHT
BEGIN:STANDARD
TZOFFSETFROM:-0600
TZOFFSETTO:-0700
TZNAME:MST
DTSTART:20231105T080000
END:STANDARD
BEGIN:DAYLIGHT
TZOFFSETFROM:-0700
TZOFFSETTO:-0600
TZNAME:MDT
DTSTART:20240310T090000
END:DAYLIGHT
BEGIN:STANDARD
TZOFFSETFROM:-0600
TZOFFSETTO:-0700
TZNAME:MST
DTSTART:20241103T080000
END:STANDARD
END:VTIMEZONE
BEGIN:VEVENT
DTSTART;VALUE=DATE:20231124
DTEND;VALUE=DATE:20231125
DTSTAMP:20260423T041808
CREATED:20230913T193448Z
LAST-MODIFIED:20230913T202829Z
UID:3048-1700784000-1700870399@icepalace.ca
SUMMARY:TRC Revision
DESCRIPTION:TRC ice moved to Callingwood Arena. Revised Side B schedule is below. \nSide B schedule:\n3:45-4:45pm – Pair / Dance\n4:45-6:15pm – Regular schedule \n**Side B ends at 6:15pm\n**No changes to Side A schedule\n**No off-ice harness lessons
URL:https://icepalace.ca/event/trc-revision-115/
END:VEVENT
BEGIN:VEVENT
DTSTART;VALUE=DATE:20231114
DTEND;VALUE=DATE:20231115
DTSTAMP:20260423T041808
CREATED:20230925T173157Z
LAST-MODIFIED:20231111T215921Z
UID:3084-1699920000-1700006399@icepalace.ca
SUMMARY:Test Day
DESCRIPTION:Regular schedule on Side B may be revised or cancelled to accommodate the Test Day.  \nSee homepage for Test Day Schedule.
URL:https://icepalace.ca/event/test-day-27/
END:VEVENT
BEGIN:VEVENT
DTSTART;VALUE=DATE:20231104
DTEND;VALUE=DATE:20231105
DTSTAMP:20260423T041808
CREATED:20230913T194201Z
LAST-MODIFIED:20230913T200445Z
UID:3053-1699056000-1699142399@icepalace.ca
SUMMARY:CLW & KMN Revision
DESCRIPTION:Callingwood and Kinsmen ice cancelled
URL:https://icepalace.ca/event/clw-kmn-revision-11/
END:VEVENT
BEGIN:VEVENT
DTSTART;VALUE=DATE:20231103
DTEND;VALUE=DATE:20231104
DTSTAMP:20260423T041808
CREATED:20230913T193343Z
LAST-MODIFIED:20231019T154915Z
UID:3047-1698969600-1699055999@icepalace.ca
SUMMARY:TRC Revision
DESCRIPTION:TRC ice cancelled.  The ice below is available for skaters competing at Sectionals. \nTRC-Side A:\n1:45-2:45pm – Novice\, Pre-Novice\, Juvenile U14\n3:00-4:30pm – Novice\, Pre-Novice\, Juvenile U14 \n**Juvenile U14 can skate on one session only\n**No off-ice harness lessons
URL:https://icepalace.ca/event/trc-revision-116/
END:VEVENT
BEGIN:VEVENT
DTSTART;VALUE=DATE:20231102
DTEND;VALUE=DATE:20231106
DTSTAMP:20260423T041808
CREATED:20230913T195336Z
LAST-MODIFIED:20230913T202604Z
UID:3066-1698883200-1699228799@icepalace.ca
SUMMARY:Sectional Championships
DESCRIPTION:Calgary\, AB
URL:https://icepalace.ca/event/sectional-championships-3/
END:VEVENT
BEGIN:VEVENT
DTSTART;VALUE=DATE:20231102
DTEND;VALUE=DATE:20231103
DTSTAMP:20260423T041808
CREATED:20231019T160714Z
LAST-MODIFIED:20231019T161050Z
UID:3103-1698883200-1698969599@icepalace.ca
SUMMARY:Juv U12 Revision
DESCRIPTION:Juvenile U12 skaters who are competing at Sectionals may skate on any session from 12:30-3:45pm.  This is optional and would be instead of their regular practice time.
URL:https://icepalace.ca/event/juv-u12-revision/
END:VEVENT
BEGIN:VEVENT
DTSTART;VALUE=DATE:20231026
DTEND;VALUE=DATE:20231027
DTSTAMP:20260423T041808
CREATED:20230913T194923Z
LAST-MODIFIED:20230913T202545Z
UID:3062-1698278400-1698364799@icepalace.ca
SUMMARY:WEM Revision
DESCRIPTION:WEM ice cancelled; see revised schedule below. \nTerwillegar Rec Centre\n6:30-8:00am – Regular schedule \nMeadows Arena\n12:30-4:00pm – Regular Schedule \nDowntown Arena\n5:45-6:45pm – Int B\n6:45-7:15pm – Int A/B\, Sr A/B Spins\n7:15-8:15pm – Int A\, Sr A/B \n**No off-ice classes
URL:https://icepalace.ca/event/wem-revision-63/
END:VEVENT
BEGIN:VEVENT
DTSTART;VALUE=DATE:20231025
DTEND;VALUE=DATE:20231026
DTSTAMP:20260423T041808
CREATED:20230914T222419Z
LAST-MODIFIED:20231018T172823Z
UID:3079-1698192000-1698278399@icepalace.ca
SUMMARY:Simulations
DESCRIPTION:Competition Simulation for all skaters competing at Sectionals\n*Regular Schedule is canceled on Side A from 2:15-6:00pm and canceled on Side B from 5:45-6:10pm\n**No off-ice harness lessons
URL:https://icepalace.ca/event/simulations/
END:VEVENT
BEGIN:VEVENT
DTSTART;VALUE=DATE:20231018
DTEND;VALUE=DATE:20231019
DTSTAMP:20260423T041808
CREATED:20231010T171852Z
LAST-MODIFIED:20231010T171908Z
UID:3086-1697587200-1697673599@icepalace.ca
SUMMARY:Off-ice Harness Revision
DESCRIPTION:Off-ice harness lessons end at 4:30pm (no lessons from 4:30-7:50pm)
URL:https://icepalace.ca/event/off-ice-harness-revision/
END:VEVENT
BEGIN:VEVENT
DTSTART;VALUE=DATE:20231012
DTEND;VALUE=DATE:20231013
DTSTAMP:20260423T041808
CREATED:20231010T191944Z
LAST-MODIFIED:20231010T192141Z
UID:3087-1697068800-1697155199@icepalace.ca
SUMMARY:WEM Revision
DESCRIPTION:WEM ice cancelled; see revised schedule below. \nClareview Arena: 6:30-8:00am – Regular schedule \nMeadows Arena (East Rink):\n12:30-1:30pm – Senior A/B\n1:45-2:45pm – Senior A/B\n3:00-4:15pm – Senior A/B \nMeadows Arena (West Rink):\n3:45-4:45pm – Intermediate A/B skaters who are competing at Sectionals \n**No off-ice classes
URL:https://icepalace.ca/event/wem-revision-65/
END:VEVENT
BEGIN:VEVENT
DTSTART;VALUE=DATE:20231009
DTEND;VALUE=DATE:20231010
DTSTAMP:20260423T041808
CREATED:20230913T194530Z
LAST-MODIFIED:20230913T233854Z
UID:3058-1696809600-1696895999@icepalace.ca
SUMMARY:WEM Revision
DESCRIPTION:See revised schedule below:\n \n12:30-1:30pm – Sr A\n1:45-2:45pm – Sr A\n3:00-4:00pm – Int A/Sr B\n4:15-5:00pm – Int A/Sr B\n5:00-6:00pm – Int B \n**No off-ice classes\n**No changes to morning ice\n**The schedule above is only for skaters who are registered to skate on Mondays
URL:https://icepalace.ca/event/wem-revision-64/
END:VEVENT
BEGIN:VEVENT
DTSTART;VALUE=DATE:20230930
DTEND;VALUE=DATE:20231001
DTSTAMP:20260423T041808
CREATED:20230830T212550Z
LAST-MODIFIED:20230913T202217Z
UID:3044-1696032000-1696118399@icepalace.ca
SUMMARY:CLW & KMN Revision
DESCRIPTION:Callingwood & Kinsmen ice cancelled
URL:https://icepalace.ca/event/clw-kmn-revision-9/
END:VEVENT
BEGIN:VEVENT
DTSTART;VALUE=DATE:20230929
DTEND;VALUE=DATE:20231002
DTSTAMP:20260423T041808
CREATED:20230913T195253Z
LAST-MODIFIED:20230913T200505Z
UID:3065-1695945600-1696204799@icepalace.ca
SUMMARY:Sask Skate Competition
DESCRIPTION:Regina\, SK
URL:https://icepalace.ca/event/sask-skate-competition-3/
END:VEVENT
BEGIN:VEVENT
DTSTART;VALUE=DATE:20230929
DTEND;VALUE=DATE:20230930
DTSTAMP:20260423T041808
CREATED:20230830T212517Z
LAST-MODIFIED:20230830T212517Z
UID:3043-1695945600-1696031999@icepalace.ca
SUMMARY:TRC Revision
DESCRIPTION:All ice cancelled
URL:https://icepalace.ca/event/trc-revision-111/
END:VEVENT
BEGIN:VEVENT
DTSTART;VALUE=DATE:20230901
DTEND;VALUE=DATE:20230902
DTSTAMP:20260423T041808
CREATED:20230830T212404Z
LAST-MODIFIED:20230830T212404Z
UID:3042-1693526400-1693612799@icepalace.ca
SUMMARY:2023-24 Skating School begins
DESCRIPTION:
URL:https://icepalace.ca/event/2023-24-skating-school-begins/
END:VEVENT
BEGIN:VEVENT
DTSTART;VALUE=DATE:20230828
DTEND;VALUE=DATE:20230901
DTSTAMP:20260423T041808
CREATED:20230321T031413Z
LAST-MODIFIED:20230730T220213Z
UID:2947-1693180800-1693526399@icepalace.ca
SUMMARY:Pre-Season Camp
DESCRIPTION:Aug 28-31 @ Terwillegar Arena \n1:00-2:00pm – Sr A\n2:15-3:15 – Sr A\n3:30-4:30 – Sr B/Int A\n4:30-4:45 – Sr B/Int A Edge\n4:45-5:45 – Int B\n6:00-7:00 – Jr (Tue/Thu)\n6:00-7:00 – Pair/Dance (Mon/Wed)
URL:https://icepalace.ca/event/pre-season-camp-8/
END:VEVENT
BEGIN:VEVENT
DTSTART;VALUE=DATE:20230817
DTEND;VALUE=DATE:20230821
DTSTAMP:20260423T041808
CREATED:20230321T031257Z
LAST-MODIFIED:20230323T020959Z
UID:2946-1692230400-1692575999@icepalace.ca
SUMMARY:BC SummerSkate Competition
DESCRIPTION:Burnaby\, BC
URL:https://icepalace.ca/event/bc-summerskate-competition/
END:VEVENT
BEGIN:VEVENT
DTSTART;VALUE=DATE:20230814
DTEND;VALUE=DATE:20230817
DTSTAMP:20260423T041808
CREATED:20230405T213310Z
LAST-MODIFIED:20230811T153614Z
UID:2973-1691971200-1692230399@icepalace.ca
SUMMARY:Competition Prep Ice
DESCRIPTION:The following Pick-up Ice is for skaters competing at BC Summer Skate. \nAug 14-16 @ West Edmonton Mall \n9:00-10:00am – Int A/B (plus Pairs)\n10:15-11:00 – Int A/B (plus Dance)\n11:15-12:15 – Sr A/B\n12:30-1:30 – Sr A/B \nCost: $20.00 / hour (must be booked online in advance)
URL:https://icepalace.ca/event/pick-up-ice-available/
END:VEVENT
BEGIN:VEVENT
DTSTART;VALUE=DATE:20230811
DTEND;VALUE=DATE:20230812
DTSTAMP:20260423T041808
CREATED:20230406T213507Z
LAST-MODIFIED:20230406T213507Z
UID:2964-1691712000-1691798399@icepalace.ca
SUMMARY:Beach Day
DESCRIPTION:Prizes will be awarded for creativity; skaters must be able to train in their costumes
URL:https://icepalace.ca/event/beach-day-7/
END:VEVENT
BEGIN:VEVENT
DTSTART;VALUE=DATE:20230811
DTEND;VALUE=DATE:20230812
DTSTAMP:20260423T041808
CREATED:20230321T031054Z
LAST-MODIFIED:20230321T031054Z
UID:2944-1691712000-1691798399@icepalace.ca
SUMMARY:Summer Camp ends
DESCRIPTION:
URL:https://icepalace.ca/event/summer-camp-ends-8/
END:VEVENT
BEGIN:VEVENT
DTSTART;VALUE=DATE:20230810
DTEND;VALUE=DATE:20230811
DTSTAMP:20260423T041808
CREATED:20230406T213515Z
LAST-MODIFIED:20230807T225448Z
UID:2965-1691625600-1691711999@icepalace.ca
SUMMARY:Test Day
DESCRIPTION:See homepage for schedule \n**1:45 Pair / Dance session cancelled\n**All other sessions will continue as usual
URL:https://icepalace.ca/event/test-day-22/
END:VEVENT
BEGIN:VEVENT
DTSTART;VALUE=DATE:20230807
DTEND;VALUE=DATE:20230808
DTSTAMP:20260423T041808
CREATED:20230731T143633Z
LAST-MODIFIED:20230731T191420Z
UID:3028-1691366400-1691452799@icepalace.ca
SUMMARY:Pick-up Ice
DESCRIPTION:Regular schedule cancelled. The following Pick-up Ice is available. \nAug 7 @ Terwillegar Rec Centre \n8:45 – 9:45am\n10:00-11:00am \nCost: $20.00 / session (must be booked online in advance)
URL:https://icepalace.ca/event/pick-up-ice/
END:VEVENT
BEGIN:VEVENT
DTSTART;VALUE=DATE:20230804
DTEND;VALUE=DATE:20230808
DTSTAMP:20260423T041808
CREATED:20230321T031154Z
LAST-MODIFIED:20230321T173958Z
UID:2945-1691107200-1691452799@icepalace.ca
SUMMARY:Wild Rose Competition
DESCRIPTION:Edmonton Region
URL:https://icepalace.ca/event/wild-rose/
END:VEVENT
BEGIN:VEVENT
DTSTART;VALUE=DATE:20230804
DTEND;VALUE=DATE:20230805
DTSTAMP:20260423T041808
CREATED:20230405T213251Z
LAST-MODIFIED:20230405T213251Z
UID:2971-1691107200-1691193599@icepalace.ca
SUMMARY:TRC Revision
DESCRIPTION:TRC Revision. Revised schedule below: \n7:45-8:45am – Intermediate\n9:00-10:00 – Senior B\n10:15-11:15 – Senior A\n11:30-12:30 – Pair / Dance \n**No off-ice classes\n**No skating for Juniors\n**No off-ice harness lessons
URL:https://icepalace.ca/event/trc-revision-110/
END:VEVENT
BEGIN:VEVENT
DTSTART;VALUE=DATE:20230803
DTEND;VALUE=DATE:20230804
DTSTAMP:20260423T041808
CREATED:20230405T213153Z
LAST-MODIFIED:20230405T213153Z
UID:2970-1691020800-1691107199@icepalace.ca
SUMMARY:Ice Palace Summer Classic - Club Competition
DESCRIPTION:Ice Palace Summer Classic – Club Competition for Juniors STAR 1 – 5
URL:https://icepalace.ca/event/ice-palace-summer-classic-club-competition/
END:VEVENT
BEGIN:VEVENT
DTSTART;TZID=America/Edmonton:20230802T080000
DTEND;TZID=America/Edmonton:20230802T170000
DTSTAMP:20260423T041808
CREATED:20230406T213528Z
LAST-MODIFIED:20230406T213528Z
UID:2963-1690963200-1690995600@icepalace.ca
SUMMARY:Olympic Games Day
DESCRIPTION:Prizes will be awarded for creativity; skaters must be able to train in their costumes
URL:https://icepalace.ca/event/olympic-games-day-6/
END:VEVENT
BEGIN:VEVENT
DTSTART;VALUE=DATE:20230731
DTEND;VALUE=DATE:20230801
DTSTAMP:20260423T041808
CREATED:20230406T213539Z
LAST-MODIFIED:20230406T213544Z
UID:2969-1690761600-1690847999@icepalace.ca
SUMMARY:Artistic Showcase
DESCRIPTION:2:30-3:00pm @ Terwillegar Arena Int\, Sr B\, Sr A \n**Parents – please come and watch the show!!!\n**Sr A Freeskate moved to 3:00-3:45pm
URL:https://icepalace.ca/event/artistic-showcase-5/
END:VEVENT
BEGIN:VEVENT
DTSTART;VALUE=DATE:20230728
DTEND;VALUE=DATE:20230729
DTSTAMP:20260423T041808
CREATED:20230406T213555Z
LAST-MODIFIED:20230406T213555Z
UID:2962-1690502400-1690588799@icepalace.ca
SUMMARY:Wild West Day
DESCRIPTION:Prizes will be awarded for creativity; skaters must be able to train in their costumes
URL:https://icepalace.ca/event/wild-west-day-4/
END:VEVENT
BEGIN:VEVENT
DTSTART;VALUE=DATE:20230726
DTEND;VALUE=DATE:20230727
DTSTAMP:20260423T041808
CREATED:20230405T213054Z
LAST-MODIFIED:20230418T191058Z
UID:2968-1690329600-1690415999@icepalace.ca
SUMMARY:Competition Simulations - Int\, Sr\, Dance and Pair Teams
DESCRIPTION:Simulations for Int\, Sr\, Dance\, and Pair Teams
URL:https://icepalace.ca/event/competition-simulations-int-sr-2/
END:VEVENT
BEGIN:VEVENT
DTSTART;VALUE=DATE:20230719
DTEND;VALUE=DATE:20230720
DTSTAMP:20260423T041808
CREATED:20230406T213606Z
LAST-MODIFIED:20230418T190752Z
UID:2961-1689724800-1689811199@icepalace.ca
SUMMARY:Wacky Hair Day
DESCRIPTION:Prizes will be awarded for creativity; skaters must be able to train in their costumes
URL:https://icepalace.ca/event/wacky-hair-day-6/
END:VEVENT
END:VCALENDAR