BEGIN:VCALENDAR
VERSION:2.0
PRODID:-//Ice Palace FSC - ECPv6.15.20//NONSGML v1.0//EN
CALSCALE:GREGORIAN
METHOD:PUBLISH
X-ORIGINAL-URL:https://icepalace.ca
X-WR-CALDESC:Events for Ice Palace FSC
REFRESH-INTERVAL;VALUE=DURATION:PT1H
X-Robots-Tag:noindex
X-PUBLISHED-TTL:PT1H
BEGIN:VTIMEZONE
TZID:America/Edmonton
BEGIN:DAYLIGHT
TZOFFSETFROM:-0700
TZOFFSETTO:-0600
TZNAME:MDT
DTSTART:20250309T090000
END:DAYLIGHT
BEGIN:STANDARD
TZOFFSETFROM:-0600
TZOFFSETTO:-0700
TZNAME:MST
DTSTART:20251102T080000
END:STANDARD
BEGIN:DAYLIGHT
TZOFFSETFROM:-0700
TZOFFSETTO:-0600
TZNAME:MDT
DTSTART:20260308T090000
END:DAYLIGHT
BEGIN:STANDARD
TZOFFSETFROM:-0600
TZOFFSETTO:-0700
TZNAME:MST
DTSTART:20261101T080000
END:STANDARD
BEGIN:DAYLIGHT
TZOFFSETFROM:-0700
TZOFFSETTO:-0600
TZNAME:MDT
DTSTART:20270314T090000
END:DAYLIGHT
BEGIN:STANDARD
TZOFFSETFROM:-0600
TZOFFSETTO:-0700
TZNAME:MST
DTSTART:20271107T080000
END:STANDARD
END:VTIMEZONE
BEGIN:VEVENT
DTSTART;VALUE=DATE:20260227
DTEND;VALUE=DATE:20260302
DTSTAMP:20260422T042159
CREATED:20250827T205905Z
LAST-MODIFIED:20250827T205905Z
UID:3547-1772150400-1772409599@icepalace.ca
SUMMARY:Combined Winter Invitational
DESCRIPTION:Airdrie\, AB
URL:https://icepalace.ca/event/combined-winter-invitational-5/
END:VEVENT
BEGIN:VEVENT
DTSTART;VALUE=DATE:20260304
DTEND;VALUE=DATE:20260305
DTSTAMP:20260422T042159
CREATED:20250827T204631Z
LAST-MODIFIED:20260301T150538Z
UID:3533-1772582400-1772668799@icepalace.ca
SUMMARY:Test Day
DESCRIPTION:Int B Stroking class is cancelled.  All other sessions will run as regularly scheduled.  
URL:https://icepalace.ca/event/test-day-35/
END:VEVENT
BEGIN:VEVENT
DTSTART;VALUE=DATE:20260313
DTEND;VALUE=DATE:20260314
DTSTAMP:20260422T042159
CREATED:20260302T220707Z
LAST-MODIFIED:20260302T220707Z
UID:3665-1773360000-1773446399@icepalace.ca
SUMMARY:Simulations
DESCRIPTION:Competition Simulation for all Jr/Int skaters competing at the StarSkate Championships. \n6:45-7:45pm Int B session on Arena B is canceled. \n 
URL:https://icepalace.ca/event/simulations-4/
END:VEVENT
BEGIN:VEVENT
DTSTART;VALUE=DATE:20260320
DTEND;VALUE=DATE:20260323
DTSTAMP:20260422T042159
CREATED:20250827T210047Z
LAST-MODIFIED:20250827T210047Z
UID:3549-1773964800-1774223999@icepalace.ca
SUMMARY:STARSkate & Adult Championships
DESCRIPTION:Calgary\, AB
URL:https://icepalace.ca/event/starskate-adult-championships-6/
END:VEVENT
BEGIN:VEVENT
DTSTART;VALUE=DATE:20260321
DTEND;VALUE=DATE:20260322
DTSTAMP:20260422T042159
CREATED:20250827T203803Z
LAST-MODIFIED:20250827T203803Z
UID:3525-1774051200-1774137599@icepalace.ca
SUMMARY:CLW Revision
DESCRIPTION:Callingwood ice cancelled
URL:https://icepalace.ca/event/clw-revision-52/
END:VEVENT
BEGIN:VEVENT
DTSTART;VALUE=DATE:20260326
DTEND;VALUE=DATE:20260327
DTSTAMP:20260422T042159
CREATED:20250827T205237Z
LAST-MODIFIED:20250912T182520Z
UID:3539-1774483200-1774569599@icepalace.ca
SUMMARY:WEM Revision
DESCRIPTION:WEM ice moved to Terwillegar Rec Centre (6:30-8:00am and 12:30-7:15pm)
URL:https://icepalace.ca/event/wem-revision-93/
END:VEVENT
BEGIN:VEVENT
DTSTART;VALUE=DATE:20260330
DTEND;VALUE=DATE:20260407
DTSTAMP:20260422T042159
CREATED:20250827T205432Z
LAST-MODIFIED:20260305T180040Z
UID:3541-1774828800-1775519999@icepalace.ca
SUMMARY:Spring Break Schedule
DESCRIPTION:Our Spring Break Schedule will run from March 30 – Apr 6. Schedule is posted on the homepage.
URL:https://icepalace.ca/event/spring-break-spring-break-camp-4/
END:VEVENT
BEGIN:VEVENT
DTSTART;VALUE=DATE:20260409
DTEND;VALUE=DATE:20260410
DTSTAMP:20260422T042159
CREATED:20260324T193139Z
LAST-MODIFIED:20260324T193139Z
UID:3696-1775692800-1775779199@icepalace.ca
SUMMARY:WEM Revision
DESCRIPTION:WEM ice cancelled; revised schedule below. \nTerwillegar Rec Centre\n6:30-8:00am – Regular schedule \nMeadows Arena\n12:30-7:15pm – Regular Schedule
URL:https://icepalace.ca/event/wem-revision-96/
END:VEVENT
BEGIN:VEVENT
DTSTART;VALUE=DATE:20260410
DTEND;VALUE=DATE:20260411
DTSTAMP:20260422T042159
CREATED:20260324T193449Z
LAST-MODIFIED:20260331T162435Z
UID:3701-1775779200-1775865599@icepalace.ca
SUMMARY:TRC Revision
DESCRIPTION:TRC ice moved to Callingwood Arena \n**No off-ice harness lessons\n**No Int A\, Sr A/B Jump Class
URL:https://icepalace.ca/event/trc-revision-154/
END:VEVENT
BEGIN:VEVENT
DTSTART;VALUE=DATE:20260411
DTEND;VALUE=DATE:20260412
DTSTAMP:20260422T042159
CREATED:20260407T185804Z
LAST-MODIFIED:20260410T145532Z
UID:3728-1775865600-1775951999@icepalace.ca
SUMMARY:KMN Revision
DESCRIPTION:KMN ice moved to Callingwood Arena. \n9:30-10:30am – Pair/Dance\n10:45-11:45am – Pair/Dance
URL:https://icepalace.ca/event/kmn-revision-15/
END:VEVENT
BEGIN:VEVENT
DTSTART;VALUE=DATE:20260415
DTEND;VALUE=DATE:20260416
DTSTAMP:20260422T042159
CREATED:20260310T190023Z
LAST-MODIFIED:20260310T190023Z
UID:3674-1776211200-1776297599@icepalace.ca
SUMMARY:Star 4 Showcase
DESCRIPTION:**All Star 4 skaters will be included.\n**Event schedule is posted on the homepage.\n***Note that the Jr Edge Class is cancelled from 6:00-6:30pm. The Off-ice Jump Class and Jr Freeskate will take place at the regular time.
URL:https://icepalace.ca/event/star-4-showcase-2/
END:VEVENT
BEGIN:VEVENT
DTSTART;VALUE=DATE:20260416
DTEND;VALUE=DATE:20260417
DTSTAMP:20260422T042159
CREATED:20260324T193257Z
LAST-MODIFIED:20260324T193257Z
UID:3698-1776297600-1776383999@icepalace.ca
SUMMARY:WEM Revision
DESCRIPTION:WEM ice cancelled; revised schedule below. \nTerwillegar Rec Centre\n6:30-8:00am – Regular schedule \nMeadows Arena\n12:30-7:15pm – Regular Schedule
URL:https://icepalace.ca/event/wem-revision-97/
END:VEVENT
BEGIN:VEVENT
DTSTART;VALUE=DATE:20260417
DTEND;VALUE=DATE:20260418
DTSTAMP:20260422T042159
CREATED:20260324T193521Z
LAST-MODIFIED:20260324T193521Z
UID:3702-1776384000-1776470399@icepalace.ca
SUMMARY:TRC Revision
DESCRIPTION:Revised schedule below. \nTerwillegar Arena – Rink C:\n2:15-3:45pm – Sr A\n4:00-5:00 – Int A\, Sr A/B\n5:15-6:15 – Int B\n6:30-7:30 – Jr \n**No off-ice classes\n**No off-ice harness lessons\n**Sr A skaters may only skate on one session
URL:https://icepalace.ca/event/trc-revision-155/
END:VEVENT
BEGIN:VEVENT
DTSTART;VALUE=DATE:20260417
DTEND;VALUE=DATE:20260420
DTSTAMP:20260422T042159
CREATED:20250827T210136Z
LAST-MODIFIED:20250827T210136Z
UID:3550-1776384000-1776643199@icepalace.ca
SUMMARY:Sunsational Competition
DESCRIPTION:Hosted by Ice Palace FSC
URL:https://icepalace.ca/event/sunsational-competition-9/
END:VEVENT
BEGIN:VEVENT
DTSTART;VALUE=DATE:20260418
DTEND;VALUE=DATE:20260419
DTSTAMP:20260422T042159
CREATED:20260220T215223Z
LAST-MODIFIED:20260220T215223Z
UID:3659-1776470400-1776556799@icepalace.ca
SUMMARY:Ice Palace Spring Classic
DESCRIPTION:Star 1-3 Competition \nHosted by Ice Palace FSC
URL:https://icepalace.ca/event/ice-palace-spring-classic-2/
END:VEVENT
BEGIN:VEVENT
DTSTART;VALUE=DATE:20260418
DTEND;VALUE=DATE:20260419
DTSTAMP:20260422T042159
CREATED:20260324T193957Z
LAST-MODIFIED:20260413T184303Z
UID:3708-1776470400-1776556799@icepalace.ca
SUMMARY:CLW & KMN Revision
DESCRIPTION:No regular skating at CLW or KMN; see revised schedule below. \nRink C is for skaters competing on Saturday or Sunday (maximum of one session per skater). \nRink D is for skaters who normally skate at Kinsmen Arena on Saturdays. \nTerwillegar Arena – Rink C\n8:00-8:45am – Juvenile Women\, Star 6-9\n8:45-9:30am – Pre-Novice\n9:30-10:15am – Novice\, Junior\, Pre-Juvenile Men\, Juvenile Men \nTerwillegar Arena – Rink D\n8:00-10:00 – Pair / Dance \n**No off-ice classes
URL:https://icepalace.ca/event/clw-kmn-revision-20/
END:VEVENT
BEGIN:VEVENT
DTSTART;VALUE=DATE:20260420
DTEND;VALUE=DATE:20260421
DTSTAMP:20260422T042159
CREATED:20260324T192756Z
LAST-MODIFIED:20260324T192756Z
UID:3691-1776643200-1776729599@icepalace.ca
SUMMARY:Test Day
DESCRIPTION:Test Day Schedule will be posted on our homepage.
URL:https://icepalace.ca/event/test-day-38/
END:VEVENT
BEGIN:VEVENT
DTSTART;VALUE=DATE:20260505
DTEND;VALUE=DATE:20260506
DTSTAMP:20260422T042159
CREATED:20260324T194405Z
LAST-MODIFIED:20260324T194405Z
UID:3715-1777939200-1778025599@icepalace.ca
SUMMARY:BootBreakers begins
DESCRIPTION:
URL:https://icepalace.ca/event/bootbreakers-begins-7/
END:VEVENT
BEGIN:VEVENT
DTSTART;VALUE=DATE:20260507
DTEND;VALUE=DATE:20260508
DTSTAMP:20260422T042159
CREATED:20260324T193332Z
LAST-MODIFIED:20260324T193332Z
UID:3699-1778112000-1778198399@icepalace.ca
SUMMARY:WEM Revision
DESCRIPTION:All ice cancelled
URL:https://icepalace.ca/event/wem-revision-98/
END:VEVENT
BEGIN:VEVENT
DTSTART;VALUE=DATE:20260514
DTEND;VALUE=DATE:20260515
DTSTAMP:20260422T042159
CREATED:20260324T193412Z
LAST-MODIFIED:20260407T203335Z
UID:3700-1778716800-1778803199@icepalace.ca
SUMMARY:WEM Revision
DESCRIPTION:WEM ice cancelled; revised schedule below. \nTerwillegar Rec Centre\n6:30-8:00am – Regular schedule \nMill Woods Arena\n12:30-5:45pm – Regular Schedule (ice ends at 5:45pm) \n4:00-5:00pm – Sr A Yoga\n5:00-6:00pm – Int A\, Sr A/B Yoga\n6:00-7:00pm – Int B Yoga \n 
URL:https://icepalace.ca/event/wem-revision-99/
END:VEVENT
BEGIN:VEVENT
DTSTART;VALUE=DATE:20260515
DTEND;VALUE=DATE:20260516
DTSTAMP:20260422T042159
CREATED:20260324T193558Z
LAST-MODIFIED:20260407T203251Z
UID:3703-1778803200-1778889599@icepalace.ca
SUMMARY:TRC Revision
DESCRIPTION:TRC ice moved to Meadows Arena. \nMeadows Arena\n12:30-5:00pm – Regular Schedule\n5:15-6:00pm – Int B\n6:00-6:15pm – Int B Stroking\n6:00-7:30pm – Jr (Regular Schedule) \n**No off-ice harness lessons\n**Jr Ballet will take place as usual
URL:https://icepalace.ca/event/trc-revision-156/
END:VEVENT
BEGIN:VEVENT
DTSTART;VALUE=DATE:20260518
DTEND;VALUE=DATE:20260519
DTSTAMP:20260422T042159
CREATED:20260324T192835Z
LAST-MODIFIED:20260407T203217Z
UID:3692-1779062400-1779148799@icepalace.ca
SUMMARY:WEM Revision
DESCRIPTION:WEM ice moved to Terwillegar Arena. \nTerwillegar Arena\n9:00-10:00am – Int B\n10:00-10:30am – Int A/B\, Sr B Spins\n10:30-11:15am – Int A\, Sr B\n11:30am-12:15pm – Int A\, Sr B\n12:30-1:30pm – Sr A\n1:45-2:45pm – Sr A\n2:45-3:00 – Sr A Spins \n**No 6:30am morning ice\n**No off-ice classes
URL:https://icepalace.ca/event/wem-revision-94/
END:VEVENT
BEGIN:VEVENT
DTSTART;VALUE=DATE:20260608
DTEND;VALUE=DATE:20260609
DTSTAMP:20260422T042159
CREATED:20260324T192913Z
LAST-MODIFIED:20260324T192913Z
UID:3693-1780876800-1780963199@icepalace.ca
SUMMARY:WEM Revision
DESCRIPTION:WEM ice cancelled; revised schedule below. \nTerwillegar Rec Centre\n6:30-8:00am – Regular schedule \nDowntown Community Arena\n1:15-7:30pm – Regular Schedule\n**All on-ice and off-ice session will start and end 15 minutes later than usual
URL:https://icepalace.ca/event/wem-revision-95/
END:VEVENT
BEGIN:VEVENT
DTSTART;VALUE=DATE:20260619
DTEND;VALUE=DATE:20260620
DTSTAMP:20260422T042159
CREATED:20260324T193637Z
LAST-MODIFIED:20260331T165302Z
UID:3704-1781827200-1781913599@icepalace.ca
SUMMARY:TRC Revision
DESCRIPTION:Side B ends at 6:15pm (no Int B sessions from 6:30-7:45pm) \n**Int B skaters who normally skate on the 7:00pm session as their only freeskate session on Fridays may request a make-up session on another day that week
URL:https://icepalace.ca/event/trc-revision-157/
END:VEVENT
BEGIN:VEVENT
DTSTART;VALUE=DATE:20260626
DTEND;VALUE=DATE:20260627
DTSTAMP:20260422T042159
CREATED:20250827T210238Z
LAST-MODIFIED:20250827T210238Z
UID:3552-1782432000-1782518399@icepalace.ca
SUMMARY:2025-26 Skating School ends
DESCRIPTION:
URL:https://icepalace.ca/event/2025-26-skating-school-ends/
END:VEVENT
BEGIN:VEVENT
DTSTART;VALUE=DATE:20260626
DTEND;VALUE=DATE:20260627
DTSTAMP:20260422T042159
CREATED:20260324T193713Z
LAST-MODIFIED:20260331T165315Z
UID:3705-1782432000-1782518399@icepalace.ca
SUMMARY:TRC Revision
DESCRIPTION:Side B ends at 6:15pm (no Int B sessions from 6:30-7:45pm) \n**Int B skaters who normally skate on the 7:00pm session as their only freeskate session on Fridays may request a make-up session on another day that week
URL:https://icepalace.ca/event/trc-revision-158/
END:VEVENT
BEGIN:VEVENT
DTSTART;VALUE=DATE:20260629
DTEND;VALUE=DATE:20260630
DTSTAMP:20260422T042159
CREATED:20260324T193004Z
LAST-MODIFIED:20260407T191435Z
UID:3694-1782691200-1782777599@icepalace.ca
SUMMARY:TRC Revision
DESCRIPTION:Revised schedule is posted on our homepage  \n 
URL:https://icepalace.ca/event/trc-revision-151/
END:VEVENT
BEGIN:VEVENT
DTSTART;VALUE=DATE:20260629
DTEND;VALUE=DATE:20260630
DTSTAMP:20260422T042159
CREATED:20260324T194037Z
LAST-MODIFIED:20260324T194037Z
UID:3709-1782691200-1782777599@icepalace.ca
SUMMARY:Summer Camp begins
DESCRIPTION:
URL:https://icepalace.ca/event/summer-camp-begins-12/
END:VEVENT
BEGIN:VEVENT
DTSTART;VALUE=DATE:20260701
DTEND;VALUE=DATE:20260702
DTSTAMP:20260422T042159
CREATED:20260324T192701Z
LAST-MODIFIED:20260324T192701Z
UID:3675-1782864000-1782950399@icepalace.ca
SUMMARY:Oh Canada Day
DESCRIPTION:Prizes will be awarded for creativity; skaters must be able to train in their costumes.
URL:https://icepalace.ca/event/oh-canada-day/
END:VEVENT
BEGIN:VEVENT
DTSTART;VALUE=DATE:20260708
DTEND;VALUE=DATE:20260709
DTSTAMP:20260422T042159
CREATED:20260324T192652Z
LAST-MODIFIED:20260324T192652Z
UID:3676-1783468800-1783555199@icepalace.ca
SUMMARY:Disney Day
DESCRIPTION:Prizes will be awarded for creativity; skaters must be able to train in their costumes.
URL:https://icepalace.ca/event/disney-day/
END:VEVENT
END:VCALENDAR