BEGIN:VCALENDAR
VERSION:2.0
PRODID:-//Ice Palace FSC - ECPv6.15.20//NONSGML v1.0//EN
CALSCALE:GREGORIAN
METHOD:PUBLISH
X-WR-CALNAME:Ice Palace FSC
X-ORIGINAL-URL:https://icepalace.ca
X-WR-CALDESC:Events for Ice Palace FSC
REFRESH-INTERVAL;VALUE=DURATION:PT1H
X-Robots-Tag:noindex
X-PUBLISHED-TTL:PT1H
BEGIN:VTIMEZONE
TZID:America/Edmonton
BEGIN:DAYLIGHT
TZOFFSETFROM:-0700
TZOFFSETTO:-0600
TZNAME:MDT
DTSTART:20210314T090000
END:DAYLIGHT
BEGIN:STANDARD
TZOFFSETFROM:-0600
TZOFFSETTO:-0700
TZNAME:MST
DTSTART:20211107T080000
END:STANDARD
BEGIN:DAYLIGHT
TZOFFSETFROM:-0700
TZOFFSETTO:-0600
TZNAME:MDT
DTSTART:20220313T090000
END:DAYLIGHT
BEGIN:STANDARD
TZOFFSETFROM:-0600
TZOFFSETTO:-0700
TZNAME:MST
DTSTART:20221106T080000
END:STANDARD
BEGIN:DAYLIGHT
TZOFFSETFROM:-0700
TZOFFSETTO:-0600
TZNAME:MDT
DTSTART:20230312T090000
END:DAYLIGHT
BEGIN:STANDARD
TZOFFSETFROM:-0600
TZOFFSETTO:-0700
TZNAME:MST
DTSTART:20231105T080000
END:STANDARD
BEGIN:DAYLIGHT
TZOFFSETFROM:-0700
TZOFFSETTO:-0600
TZNAME:MDT
DTSTART:20240310T090000
END:DAYLIGHT
BEGIN:STANDARD
TZOFFSETFROM:-0600
TZOFFSETTO:-0700
TZNAME:MST
DTSTART:20241103T080000
END:STANDARD
END:VTIMEZONE
BEGIN:VEVENT
DTSTART;VALUE=DATE:20230410
DTEND;VALUE=DATE:20230411
DTSTAMP:20260425T143357
CREATED:20230306T212317Z
LAST-MODIFIED:20230323T020826Z
UID:2922-1681084800-1681171199@icepalace.ca
SUMMARY:WEM Revision
DESCRIPTION:WEM ice moved to Terwillegar Arena. Revised schedule below. \nTerwillegar Arena:\n10:30-11:30am – Sr A\n11:45-12:45 – Sr A\n12:45-1:00 – Sr A Edge Class\n1:15-2:00 – Sr B\n2:00-3:00 – Int B\n3:15-3:30 – Int A/B Edge Class\n3:30-4:00 – Int A/B\, Sr A/B Spins\n4:00-5:00 – Int A\, Sr A/B \nOff-ice:\n1:15-2:15pm – Sr A Fitness\n2:15-3:15 – Sr B Fitness\n2:35-3:05 – Int A Jump Class
URL:https://icepalace.ca/event/wem-revision-59/
END:VEVENT
BEGIN:VEVENT
DTSTART;VALUE=DATE:20230408
DTEND;VALUE=DATE:20230409
DTSTAMP:20260425T143357
CREATED:20230306T212023Z
LAST-MODIFIED:20230321T025943Z
UID:2920-1680912000-1680998399@icepalace.ca
SUMMARY:CLW & KMN Revision
DESCRIPTION:CLW & KMN ice cancelled
URL:https://icepalace.ca/event/clw-kmn-revision-7/
END:VEVENT
BEGIN:VEVENT
DTSTART;VALUE=DATE:20230407
DTEND;VALUE=DATE:20230408
DTSTAMP:20260425T143357
CREATED:20230306T212214Z
LAST-MODIFIED:20230401T165841Z
UID:2921-1680825600-1680911999@icepalace.ca
SUMMARY:TRC Revision
DESCRIPTION:TRC ice moved to Downtown Arena. Revised schedule below. \nDowntown Arena:\n10:30-11:30am – Sr A\n11:45-12:45 – Sr A\n1:00-2:00 – Int A\, Sr B\n2:00-2:30 – Int A/B\, Sr B Spins\n2:30-3:30 – Int B\n3:45-4:45 – Jr\n4:45-5:00 – Jr Creative Movement \n*No off-ice classes\n**No off-ice harness lessons
URL:https://icepalace.ca/event/trc-revision-102/
END:VEVENT
BEGIN:VEVENT
DTSTART;VALUE=DATE:20230406
DTEND;VALUE=DATE:20230407
DTSTAMP:20260425T143357
CREATED:20230321T025527Z
LAST-MODIFIED:20230321T225724Z
UID:2937-1680739200-1680825599@icepalace.ca
SUMMARY:WEM Revision
DESCRIPTION:WEM ice is cancelled from 12:30- 8:00pm.\nMorning ice will continue as usual.
URL:https://icepalace.ca/event/wem-revision-60/
END:VEVENT
BEGIN:VEVENT
DTSTART;VALUE=DATE:20230326
DTEND;VALUE=DATE:20230403
DTSTAMP:20260425T143357
CREATED:20220826T213855Z
LAST-MODIFIED:20230227T174528Z
UID:2831-1679788800-1680479999@icepalace.ca
SUMMARY:Spring Break / Spring Break Camp
DESCRIPTION:Spring Break is from March 26 – April 2.  See below for our Spring Break Freeskate Camp schedule. \nMar 27-31 Terwillegar Arena\n8:00-9:00am – Int B\n9:00-9:30 – Int B Edges\n9:30-10:15 – Int A\, Sr B\n10:30-11:30 – Int A\, Sr B\n11:30-12:00 – Int A\, Sr A/B Spins\n12:15-1:15 – Sr A\n1:30-2:15 – Sr A\n2:15-2:45 – Jr\, Sr A Edges\n2:45-3:30 – Jr\n3:45-4:45 – Pairs/Dance (Wed Mar 29 only) \nMar 28 & 30 Off-ice classes (Tue & Thu only):\n9:45-10:45am – Int B Zumba\n12:15-1:15 – Int A\, Sr B Zumba\n1:15-2:00 – Jr Zumba\n3:00-4:00 – Sr A Zumba \n– Email the office to register. Registration deadline is March 13th .\n– Cost is free to package skaters. If space is available\, hourly skaters may register at the regular hourly rate.
URL:https://icepalace.ca/event/spring-break-spring-break-camp/
END:VEVENT
BEGIN:VEVENT
DTSTART;VALUE=DATE:20230317
DTEND;VALUE=DATE:20230320
DTSTAMP:20260425T143357
CREATED:20220826T214259Z
LAST-MODIFIED:20230316T210540Z
UID:2837-1679011200-1679270399@icepalace.ca
SUMMARY:STARSkate Championships
DESCRIPTION:Edmonton\, AB
URL:https://icepalace.ca/event/starskate-championships-5/
END:VEVENT
BEGIN:VEVENT
DTSTART;VALUE=DATE:20230317
DTEND;VALUE=DATE:20230318
DTSTAMP:20260425T143357
CREATED:20220826T213004Z
LAST-MODIFIED:20230323T020505Z
UID:2819-1679011200-1679097599@icepalace.ca
SUMMARY:TRC Revision
DESCRIPTION:TRC ice moved to Callingwood Arena \n*No off-ice harness lesssons
URL:https://icepalace.ca/event/trc-revision-104/
END:VEVENT
BEGIN:VEVENT
DTSTART;VALUE=DATE:20230301
DTEND;VALUE=DATE:20230302
DTSTAMP:20260425T143357
CREATED:20220907T184833Z
LAST-MODIFIED:20230227T173450Z
UID:2848-1677628800-1677715199@icepalace.ca
SUMMARY:Test Day
DESCRIPTION:Schedule is posted on the homepage.\nSide B schedule is cancelled to accommodate the Test Day.
URL:https://icepalace.ca/event/test-day-21/
END:VEVENT
BEGIN:VEVENT
DTSTART;VALUE=DATE:20230220
DTEND;VALUE=DATE:20230221
DTSTAMP:20260425T143357
CREATED:20220826T213446Z
LAST-MODIFIED:20220826T213446Z
UID:2826-1676851200-1676937599@icepalace.ca
SUMMARY:WEM Revision
DESCRIPTION:WEM ice cancelled
URL:https://icepalace.ca/event/wem-revision-55/
END:VEVENT
BEGIN:VEVENT
DTSTART;VALUE=DATE:20230218
DTEND;VALUE=DATE:20230219
DTSTAMP:20260425T143357
CREATED:20220826T213222Z
LAST-MODIFIED:20220902T205721Z
UID:2822-1676678400-1676764799@icepalace.ca
SUMMARY:CLW & KMN Revision
DESCRIPTION:Callingwood and Kinsmen ice cancelled
URL:https://icepalace.ca/event/clw-kmn-revision-5/
END:VEVENT
BEGIN:VEVENT
DTSTART;VALUE=DATE:20230217
DTEND;VALUE=DATE:20230220
DTSTAMP:20260425T143357
CREATED:20220826T214225Z
LAST-MODIFIED:20220826T214225Z
UID:2836-1676592000-1676851199@icepalace.ca
SUMMARY:Combined Winter Invitational
DESCRIPTION:Calgary\, AB
URL:https://icepalace.ca/event/combined-winter-invitational-2/
END:VEVENT
BEGIN:VEVENT
DTSTART;VALUE=DATE:20230217
DTEND;VALUE=DATE:20230218
DTSTAMP:20260425T143357
CREATED:20220826T212930Z
LAST-MODIFIED:20230206T121031Z
UID:2818-1676592000-1676678399@icepalace.ca
SUMMARY:TRC Revision
DESCRIPTION:TRC ice moved to Callingwood Arena; see revised schedule below. \nCallingwood Arena:\n12:30-3:45pm – Regular schedule\n4:00-5:00 – Int A\, Sr A/B\n5:15-6:15 – Int B\n6:00-7:30 – Regular schedule \n**Off-ice ballet classes will take place at their normal times\n**Off-ice harness lessons cancelled\n**Pair/Dance teams can skate 1 session between 12:30-3:45pm
URL:https://icepalace.ca/event/trc-revision-103/
END:VEVENT
BEGIN:VEVENT
DTSTART;VALUE=DATE:20230128
DTEND;VALUE=DATE:20230129
DTSTAMP:20260425T143357
CREATED:20220826T213146Z
LAST-MODIFIED:20220902T174546Z
UID:2821-1674864000-1674950399@icepalace.ca
SUMMARY:CLW Revision
DESCRIPTION:Callingwood ice cancelled
URL:https://icepalace.ca/event/clw-revision-47/
END:VEVENT
BEGIN:VEVENT
DTSTART;VALUE=DATE:20230127
DTEND;VALUE=DATE:20230130
DTSTAMP:20260425T143357
CREATED:20220826T214139Z
LAST-MODIFIED:20220826T214139Z
UID:2835-1674777600-1675036799@icepalace.ca
SUMMARY:Central Region STARSkate Invitational
DESCRIPTION:Red Deer\, AB
URL:https://icepalace.ca/event/central-region-starskate-invitational/
END:VEVENT
BEGIN:VEVENT
DTSTART;VALUE=DATE:20221224
DTEND;VALUE=DATE:20230109
DTSTAMP:20260425T143357
CREATED:20220826T213802Z
LAST-MODIFIED:20221118T224915Z
UID:2830-1671840000-1673222399@icepalace.ca
SUMMARY:Christmas Break / Christmas Camp
DESCRIPTION:Christmas Break is from December 24 – January 8. The last day of skating before the break is December 23. \n**Christmas Camp ice schedule is posted on the homepage.
URL:https://icepalace.ca/event/christmas-break-christmas-camp-5/
END:VEVENT
BEGIN:VEVENT
DTSTART;VALUE=DATE:20221218
DTEND;VALUE=DATE:20221219
DTSTAMP:20260425T143357
CREATED:20220826T213306Z
LAST-MODIFIED:20220826T213306Z
UID:2823-1671321600-1671407999@icepalace.ca
SUMMARY:Christmas Show
DESCRIPTION:Ice Palace Holiday Spectacular\n2:00-3:00pm @ WEM\nRehearsal schedule will be posted in November
URL:https://icepalace.ca/event/christmas-show-6/
END:VEVENT
BEGIN:VEVENT
DTSTART;VALUE=DATE:20221217
DTEND;VALUE=DATE:20221218
DTSTAMP:20260425T143357
CREATED:20220902T173757Z
LAST-MODIFIED:20220902T174618Z
UID:2845-1671235200-1671321599@icepalace.ca
SUMMARY:CLW & KMN Revision
DESCRIPTION:Callingwood and Kinsmen ice cancelled
URL:https://icepalace.ca/event/kmn-revision-5/
END:VEVENT
BEGIN:VEVENT
DTSTART;VALUE=DATE:20221217
DTEND;VALUE=DATE:20221218
DTSTAMP:20260425T143357
CREATED:20220902T173710Z
LAST-MODIFIED:20230117T165001Z
UID:2843-1671235200-1671321599@icepalace.ca
SUMMARY:Test Day
DESCRIPTION:
URL:https://icepalace.ca/event/test-day-20/
END:VEVENT
BEGIN:VEVENT
DTSTART;VALUE=DATE:20221216
DTEND;VALUE=DATE:20221217
DTSTAMP:20260425T143357
CREATED:20220826T212829Z
LAST-MODIFIED:20220919T151942Z
UID:2817-1671148800-1671235199@icepalace.ca
SUMMARY:Christmas Party
DESCRIPTION:Family Skate & Christmas Party\n5:30-7:30pm @ Callingwood Arena\nCome for Skating\, Food\, Prizes\, and Fun!\nAll figure skaters and family members welcome! \n*No skating at TRC; regular schedule moved to Callingwood Arena and ends at 5:30pm\n**Off-ice harness lessons cancelled
URL:https://icepalace.ca/event/christmas-party-6/
END:VEVENT
BEGIN:VEVENT
DTSTART;VALUE=DATE:20221203
DTEND;VALUE=DATE:20221204
DTSTAMP:20260425T143357
CREATED:20220902T173521Z
LAST-MODIFIED:20220902T174648Z
UID:2842-1670025600-1670111999@icepalace.ca
SUMMARY:CLW & KMN Revision
DESCRIPTION:Callingwood and Kinsmen ice cancelled
URL:https://icepalace.ca/event/clw-kmn-revision-6/
END:VEVENT
BEGIN:VEVENT
DTSTART;VALUE=DATE:20221202
DTEND;VALUE=DATE:20221205
DTSTAMP:20260425T143357
CREATED:20220826T214054Z
LAST-MODIFIED:20220826T214054Z
UID:2834-1669939200-1670198399@icepalace.ca
SUMMARY:Edmonton Region STARSkate Invitational
DESCRIPTION:St. Albert
URL:https://icepalace.ca/event/edmonton-region-starskate-invitational-2/
END:VEVENT
BEGIN:VEVENT
DTSTART;VALUE=DATE:20221128
DTEND;VALUE=DATE:20221129
DTSTAMP:20260425T143357
CREATED:20221128T175639Z
LAST-MODIFIED:20221128T175639Z
UID:2872-1669593600-1669679999@icepalace.ca
SUMMARY:WEM Revision
DESCRIPTION:WEM ice cancelled; see revised schedule below. \nMeadows Arena12:30-4:00pm – Regular scheduleTerwillegar Rink B3:15-4:15pm – Int A/B\, Sr A/B\n4:30-5:15pm – Off-ice Jump Class \n\n**It is ok to arrive late and skate the last portion of this session **Please inform your coach if you will be attending this practice 
URL:https://icepalace.ca/event/wem-revision-58/
END:VEVENT
BEGIN:VEVENT
DTSTART;VALUE=DATE:20221125
DTEND;VALUE=DATE:20221126
DTSTAMP:20260425T143357
CREATED:20220826T212720Z
LAST-MODIFIED:20220919T151124Z
UID:2815-1669334400-1669420799@icepalace.ca
SUMMARY:TRC Revision
DESCRIPTION:TRC ice moved to Callingwood Arena \n**Off-ice harness lessons cancelled
URL:https://icepalace.ca/event/trc-revision-101/
END:VEVENT
BEGIN:VEVENT
DTSTART;VALUE=DATE:20221124
DTEND;VALUE=DATE:20221125
DTSTAMP:20260425T143357
CREATED:20220826T212523Z
LAST-MODIFIED:20220826T212523Z
UID:2812-1669248000-1669334399@icepalace.ca
SUMMARY:WEM Revision
DESCRIPTION:WEM ice cancelled; see revised schedule below. \nTerwillegar Rec Centre\n6:30-8:00am – Regular schedule \nMeadows Arena\n12:30-4:00pm – Regular schedule \nDowntown Arena\n5:45-6:45pm – Int A\, Sr A/B \n*No off-ice classes\n*No skating for Int B
URL:https://icepalace.ca/event/wem-revision-52/
END:VEVENT
BEGIN:VEVENT
DTSTART;VALUE=DATE:20221123
DTEND;VALUE=DATE:20221124
DTSTAMP:20260425T143357
CREATED:20220826T213639Z
LAST-MODIFIED:20220826T213639Z
UID:2829-1669161600-1669247999@icepalace.ca
SUMMARY:WEM Revision
DESCRIPTION:WEM 6:30-8:00am ice moved to Terwillegar Rec Centre
URL:https://icepalace.ca/event/wem-revision-57/
END:VEVENT
BEGIN:VEVENT
DTSTART;VALUE=DATE:20221121
DTEND;VALUE=DATE:20221122
DTSTAMP:20260425T143357
CREATED:20220826T213410Z
LAST-MODIFIED:20220826T213410Z
UID:2825-1668988800-1669075199@icepalace.ca
SUMMARY:WEM Revision
DESCRIPTION:WEM ice cancelled; see revised schedule below. \nMeadows Arena\n12:30-4:00pm – Regular schedule \nDowntown Arena\n5:45-6:45pm – Int B\n6:45-7:00pm – Int A/B\, Sr A/B Spins\n7:00-8:00pm – Int A\, Sr A/B \n*No off-ice classes
URL:https://icepalace.ca/event/wem-revision-54/
END:VEVENT
BEGIN:VEVENT
DTSTART;VALUE=DATE:20221117
DTEND;VALUE=DATE:20221118
DTSTAMP:20260425T143357
CREATED:20220826T212434Z
LAST-MODIFIED:20220826T212434Z
UID:2811-1668643200-1668729599@icepalace.ca
SUMMARY:WEM Revision
DESCRIPTION:WEM ice cancelled; see revised schedule below. \nTerwillegar Rec Centre\n6:30-8:00am – Regular schedule \nMeadows Arena\n12:30-4:00pm – Regular schedule \nDowntown Arena\n5:45-6:45pm – Int B \n*No off-ice classes\n*No skating for Int A and Sr B
URL:https://icepalace.ca/event/wem-revision-51/
END:VEVENT
BEGIN:VEVENT
DTSTART;VALUE=DATE:20221031
DTEND;VALUE=DATE:20221101
DTSTAMP:20260425T143357
CREATED:20220826T213337Z
LAST-MODIFIED:20220826T213337Z
UID:2824-1667174400-1667260799@icepalace.ca
SUMMARY:WEM Revision
DESCRIPTION:WEM ice cancelled
URL:https://icepalace.ca/event/wem-revision-53/
END:VEVENT
BEGIN:VEVENT
DTSTART;VALUE=DATE:20221029
DTEND;VALUE=DATE:20221030
DTSTAMP:20260425T143357
CREATED:20220826T213046Z
LAST-MODIFIED:20220902T174745Z
UID:2820-1667001600-1667087999@icepalace.ca
SUMMARY:CLW & KMN Revision
DESCRIPTION:Callingwood and Kinsmen ice cancelled
URL:https://icepalace.ca/event/clw-kmn-revision-4/
END:VEVENT
BEGIN:VEVENT
DTSTART;VALUE=DATE:20221028
DTEND;VALUE=DATE:20221029
DTSTAMP:20260425T143357
CREATED:20220826T212648Z
LAST-MODIFIED:20221018T173028Z
UID:2814-1666915200-1667001599@icepalace.ca
SUMMARY:TRC Revision
DESCRIPTION:Skating moved to Callingwood Arena.  Revised schedule below: \nFriday\, October 28 @ Callingwood\n1:45-2:45 – Sr A/B\n3:00-3:45 – Sr A/B\n4:00-5:00 – Int A\, Sr A/B\n5:15-6:15 – Int B \n**No skating for Juniors\n**No off-ice classes or off-ice harness lessons
URL:https://icepalace.ca/event/trc-revision-100/
END:VEVENT
END:VCALENDAR