BEGIN:VCALENDAR
VERSION:2.0
PRODID:-//Ice Palace FSC - ECPv6.15.20//NONSGML v1.0//EN
CALSCALE:GREGORIAN
METHOD:PUBLISH
X-ORIGINAL-URL:https://icepalace.ca
X-WR-CALDESC:Events for Ice Palace FSC
REFRESH-INTERVAL;VALUE=DURATION:PT1H
X-Robots-Tag:noindex
X-PUBLISHED-TTL:PT1H
BEGIN:VTIMEZONE
TZID:America/Edmonton
BEGIN:DAYLIGHT
TZOFFSETFROM:-0700
TZOFFSETTO:-0600
TZNAME:MDT
DTSTART:20250309T090000
END:DAYLIGHT
BEGIN:STANDARD
TZOFFSETFROM:-0600
TZOFFSETTO:-0700
TZNAME:MST
DTSTART:20251102T080000
END:STANDARD
BEGIN:DAYLIGHT
TZOFFSETFROM:-0700
TZOFFSETTO:-0600
TZNAME:MDT
DTSTART:20260308T090000
END:DAYLIGHT
BEGIN:STANDARD
TZOFFSETFROM:-0600
TZOFFSETTO:-0700
TZNAME:MST
DTSTART:20261101T080000
END:STANDARD
BEGIN:DAYLIGHT
TZOFFSETFROM:-0700
TZOFFSETTO:-0600
TZNAME:MDT
DTSTART:20270314T090000
END:DAYLIGHT
BEGIN:STANDARD
TZOFFSETFROM:-0600
TZOFFSETTO:-0700
TZNAME:MST
DTSTART:20271107T080000
END:STANDARD
END:VTIMEZONE
BEGIN:VEVENT
DTSTART;VALUE=DATE:20260807
DTEND;VALUE=DATE:20260808
DTSTAMP:20260424T093101
CREATED:20260324T192542Z
LAST-MODIFIED:20260324T192542Z
UID:3684-1786060800-1786147199@icepalace.ca
SUMMARY:Pajama Day
DESCRIPTION:Prizes will be awarded for creativity; skaters must be able to train in their costumes.
URL:https://icepalace.ca/event/pajama-day-5/
END:VEVENT
BEGIN:VEVENT
DTSTART;VALUE=DATE:20260807
DTEND;VALUE=DATE:20260808
DTSTAMP:20260424T093101
CREATED:20260324T194055Z
LAST-MODIFIED:20260324T194055Z
UID:3710-1786060800-1786147199@icepalace.ca
SUMMARY:Summer Camp ends
DESCRIPTION:
URL:https://icepalace.ca/event/summer-camp-ends-11/
END:VEVENT
BEGIN:VEVENT
DTSTART;VALUE=DATE:20260810
DTEND;VALUE=DATE:20260813
DTSTAMP:20260424T093101
CREATED:20260324T194149Z
LAST-MODIFIED:20260324T194149Z
UID:3711-1786320000-1786579199@icepalace.ca
SUMMARY:Pick-up ice
DESCRIPTION:Pick-up Ice will be available; schedule TBA
URL:https://icepalace.ca/event/pick-up-ice-2/
END:VEVENT
BEGIN:VEVENT
DTSTART;VALUE=DATE:20260813
DTEND;VALUE=DATE:20260817
DTSTAMP:20260424T093101
CREATED:20260324T194332Z
LAST-MODIFIED:20260324T194332Z
UID:3714-1786579200-1786924799@icepalace.ca
SUMMARY:BC SummerSkate Competition
DESCRIPTION:
URL:https://icepalace.ca/event/bc-summerskate-competition-3/
END:VEVENT
BEGIN:VEVENT
DTSTART;VALUE=DATE:20260824
DTEND;VALUE=DATE:20260829
DTSTAMP:20260424T093101
CREATED:20260324T194234Z
LAST-MODIFIED:20260324T194234Z
UID:3712-1787529600-1787961599@icepalace.ca
SUMMARY:Pre-Season Camp
DESCRIPTION:Aug 24-28 @ Terwillegar Arena \n1:00-2:00 – Sr A\n2:15-3:15 – Sr A\n3:30-4:30 – Sr B / Int A\n4:30-4:45 – Sr B / Int A Edges\n4:45-5:45 – Int B\n6:00-7:00 – Jr (Tue/Thu)\n6:00-7:00 – Pair / Dance (Mon/Wed/Fri)
URL:https://icepalace.ca/event/pre-season-camp-11/
END:VEVENT
END:VCALENDAR