BEGIN:VCALENDAR
VERSION:2.0
PRODID:-//Ice Palace FSC - ECPv6.15.20//NONSGML v1.0//EN
CALSCALE:GREGORIAN
METHOD:PUBLISH
X-ORIGINAL-URL:https://icepalace.ca
X-WR-CALDESC:Events for Ice Palace FSC
REFRESH-INTERVAL;VALUE=DURATION:PT1H
X-Robots-Tag:noindex
X-PUBLISHED-TTL:PT1H
BEGIN:VTIMEZONE
TZID:America/Edmonton
BEGIN:DAYLIGHT
TZOFFSETFROM:-0700
TZOFFSETTO:-0600
TZNAME:MDT
DTSTART:20230312T090000
END:DAYLIGHT
BEGIN:STANDARD
TZOFFSETFROM:-0600
TZOFFSETTO:-0700
TZNAME:MST
DTSTART:20231105T080000
END:STANDARD
BEGIN:DAYLIGHT
TZOFFSETFROM:-0700
TZOFFSETTO:-0600
TZNAME:MDT
DTSTART:20240310T090000
END:DAYLIGHT
BEGIN:STANDARD
TZOFFSETFROM:-0600
TZOFFSETTO:-0700
TZNAME:MST
DTSTART:20241103T080000
END:STANDARD
BEGIN:DAYLIGHT
TZOFFSETFROM:-0700
TZOFFSETTO:-0600
TZNAME:MDT
DTSTART:20250309T090000
END:DAYLIGHT
BEGIN:STANDARD
TZOFFSETFROM:-0600
TZOFFSETTO:-0700
TZNAME:MST
DTSTART:20251102T080000
END:STANDARD
BEGIN:DAYLIGHT
TZOFFSETFROM:-0700
TZOFFSETTO:-0600
TZNAME:MDT
DTSTART:20260308T090000
END:DAYLIGHT
BEGIN:STANDARD
TZOFFSETFROM:-0600
TZOFFSETTO:-0700
TZNAME:MST
DTSTART:20261101T080000
END:STANDARD
END:VTIMEZONE
BEGIN:VEVENT
DTSTART;VALUE=DATE:20240809
DTEND;VALUE=DATE:20240810
DTSTAMP:20260425T102635
CREATED:20240312T200423Z
LAST-MODIFIED:20240312T200423Z
UID:3175-1723161600-1723247999@icepalace.ca
SUMMARY:Summer Camp ends
DESCRIPTION:
URL:https://icepalace.ca/event/summer-camp-ends-9/
END:VEVENT
BEGIN:VEVENT
DTSTART;VALUE=DATE:20240809
DTEND;VALUE=DATE:20240810
DTSTAMP:20260425T102635
CREATED:20240325T230834Z
LAST-MODIFIED:20240325T230834Z
UID:3192-1723161600-1723247999@icepalace.ca
SUMMARY:Beach Day
DESCRIPTION:Prizes will be awarded for creativity; skaters must be able to train in their costumes.
URL:https://icepalace.ca/event/beach-day-8/
END:VEVENT
BEGIN:VEVENT
DTSTART;VALUE=DATE:20240809
DTEND;VALUE=DATE:20240810
DTSTAMP:20260425T102635
CREATED:20240326T215422Z
LAST-MODIFIED:20240328T154956Z
UID:3205-1723161600-1723247999@icepalace.ca
SUMMARY:TRC Revision
DESCRIPTION:1:45-2:45pm Pair/Dance session cancelled
URL:https://icepalace.ca/event/trc-revision-126/
END:VEVENT
BEGIN:VEVENT
DTSTART;VALUE=DATE:20240812
DTEND;VALUE=DATE:20240815
DTSTAMP:20260425T102635
CREATED:20240325T231205Z
LAST-MODIFIED:20240719T035508Z
UID:3197-1723420800-1723679999@icepalace.ca
SUMMARY:Competition Prep Ice
DESCRIPTION:The following Pick-up Ice is for skaters competing at BC Summer Skate. \nAug 12-14 @ West Edmonton Mall \n9:00-10:00am – Star 5-Juvenile\n10:15-11:00 – Star 5-Juvenile\n11:15-12:15 – Pre-Novice-Senior\n12:30-1:30 – Pre-Novice-Senior \n*Cost: $20.00 / hour (must be booked online in advance)\n*Skaters who are not competing at BC Summer Skate may register if space permits
URL:https://icepalace.ca/event/pick-up-ice-available-2/
END:VEVENT
BEGIN:VEVENT
DTSTART;VALUE=DATE:20240815
DTEND;VALUE=DATE:20240819
DTSTAMP:20260425T102635
CREATED:20240325T231448Z
LAST-MODIFIED:20240328T192847Z
UID:3202-1723680000-1724025599@icepalace.ca
SUMMARY:BC Summer Skate Competition
DESCRIPTION:Burnaby\, BC
URL:https://icepalace.ca/event/bc-summer-skate-competition-4/
END:VEVENT
BEGIN:VEVENT
DTSTART;VALUE=DATE:20240826
DTEND;VALUE=DATE:20240831
DTSTAMP:20260425T102635
CREATED:20240801T134825Z
LAST-MODIFIED:20240801T144636Z
UID:3257-1724630400-1725062399@icepalace.ca
SUMMARY:Pre-Season Camp
DESCRIPTION:Aug 26-30 @ Terwillegar Arena \n1:00-2:00pm – Sr A\n2:15-3:15 – Sr A\n3:30-4:30 – Sr B / Int A\n4:30-4:45 – Sr B / Int A Edges\n4:45-5:45 – Int B\n6:00-7:00 – Jr (Tue/Thu)\n6:00-7:00 – Pair / Dance (Mon/Wed/Fri)
URL:https://icepalace.ca/event/pre-season-camp-9/
END:VEVENT
BEGIN:VEVENT
DTSTART;VALUE=DATE:20240903
DTEND;VALUE=DATE:20240904
DTSTAMP:20260425T102635
CREATED:20240801T134929Z
LAST-MODIFIED:20240801T134929Z
UID:3258-1725321600-1725407999@icepalace.ca
SUMMARY:2024-2025 Skating School begins
DESCRIPTION:
URL:https://icepalace.ca/event/2024-2025-skating-school-begins/
END:VEVENT
BEGIN:VEVENT
DTSTART;VALUE=DATE:20240927
DTEND;VALUE=DATE:20240928
DTSTAMP:20260425T102635
CREATED:20240906T190516Z
LAST-MODIFIED:20240920T185610Z
UID:3265-1727395200-1727481599@icepalace.ca
SUMMARY:TRC Revision
DESCRIPTION:All ice cancelled. \nThe ice below is for skaters competing at the Fall Invitational in Airdrie. \nTerwillegar Arena:\n1:45-2:45pm – Sr A\, Pair/Dance\n3:00-3:45pm – Juv U10\, Juv U12\n3:45-4:30pm – Juv U14\, Sr A/B \n 
URL:https://icepalace.ca/event/trc-revision-127/
END:VEVENT
BEGIN:VEVENT
DTSTART;VALUE=DATE:20240927
DTEND;VALUE=DATE:20240930
DTSTAMP:20260425T102635
CREATED:20240909T200330Z
LAST-MODIFIED:20240909T200330Z
UID:3288-1727395200-1727654399@icepalace.ca
SUMMARY:Fall Invitational
DESCRIPTION:Airdrie\, AB
URL:https://icepalace.ca/event/fall-invitational-3/
END:VEVENT
BEGIN:VEVENT
DTSTART;VALUE=DATE:20240928
DTEND;VALUE=DATE:20240929
DTSTAMP:20260425T102635
CREATED:20240906T191118Z
LAST-MODIFIED:20240906T191118Z
UID:3272-1727481600-1727567999@icepalace.ca
SUMMARY:CLW & KMN Revision
DESCRIPTION:Callingwood and Kinsmen ice cancelled
URL:https://icepalace.ca/event/clw-kmn-revision-14/
END:VEVENT
BEGIN:VEVENT
DTSTART;VALUE=DATE:20240930
DTEND;VALUE=DATE:20241001
DTSTAMP:20260425T102635
CREATED:20240906T215845Z
LAST-MODIFIED:20240927T174152Z
UID:3277-1727654400-1727740799@icepalace.ca
SUMMARY:WEM Revision
DESCRIPTION:All ice cancelled
URL:https://icepalace.ca/event/wem-revision-75/
END:VEVENT
BEGIN:VEVENT
DTSTART;VALUE=DATE:20241014
DTEND;VALUE=DATE:20241015
DTSTAMP:20260425T102635
CREATED:20240912T215814Z
LAST-MODIFIED:20241005T221159Z
UID:3297-1728864000-1728950399@icepalace.ca
SUMMARY:WEM Revision
DESCRIPTION:WEM ice cancelled\, see revised schedule below:\n \nTerwillegar Rec Centre:\n11:15am-12:15pm – Sr A\n12:30-1:30pm – Sr A\n1:45-2:45pm – Int A/Sr B\n3:00-4:00pm – Int A/Sr B\n4:15-5:15pm – Int B \n**No off-ice classes\n**No 6:30-8:00am morning ice\n**The schedule above is only for skaters who are registered to skate on Mondays
URL:https://icepalace.ca/event/wem-revision-79/
CATEGORIES:Event
END:VEVENT
BEGIN:VEVENT
DTSTART;VALUE=DATE:20241023
DTEND;VALUE=DATE:20241024
DTSTAMP:20260425T102635
CREATED:20240906T220300Z
LAST-MODIFIED:20240906T220300Z
UID:3281-1729641600-1729727999@icepalace.ca
SUMMARY:Simulations
DESCRIPTION:Competition Simulation for all skaters competing at Sectionals\n**Regular Schedule is canceled on Side B from 2:15-6:00pm and canceled on Side A from 5:45-6:45pm\n**No off-ice harness lessons
URL:https://icepalace.ca/event/simulations-2/
END:VEVENT
BEGIN:VEVENT
DTSTART;VALUE=DATE:20241031
DTEND;VALUE=DATE:20241104
DTSTAMP:20260425T102635
CREATED:20240909T200408Z
LAST-MODIFIED:20240909T200408Z
UID:3289-1730332800-1730678399@icepalace.ca
SUMMARY:Sectional Championships
DESCRIPTION:Edmonton\, AB
URL:https://icepalace.ca/event/sectional-championships-4/
END:VEVENT
BEGIN:VEVENT
DTSTART;VALUE=DATE:20241101
DTEND;VALUE=DATE:20241102
DTSTAMP:20260425T102635
CREATED:20240906T190610Z
LAST-MODIFIED:20241021T162604Z
UID:3266-1730419200-1730505599@icepalace.ca
SUMMARY:TRC Revision
DESCRIPTION:The ice below is for skaters competing at Sectionals. \nCallingwood Arena:\n2:45-3:45pm – Sr A/B\n4:00-5:00pm – Sr A/B\n5:15-6:00pm – Sr A/B \n**No off-ice harness lessons
URL:https://icepalace.ca/event/trc-revision-128/
END:VEVENT
BEGIN:VEVENT
DTSTART;VALUE=DATE:20241102
DTEND;VALUE=DATE:20241103
DTSTAMP:20260425T102635
CREATED:20240906T191144Z
LAST-MODIFIED:20240906T191144Z
UID:3273-1730505600-1730591999@icepalace.ca
SUMMARY:CLW & KMN Revision
DESCRIPTION:Callingwood and Kinsmen ice cancelled
URL:https://icepalace.ca/event/clw-kmn-revision-15/
END:VEVENT
BEGIN:VEVENT
DTSTART;VALUE=DATE:20241111
DTEND;VALUE=DATE:20241112
DTSTAMP:20260425T102635
CREATED:20240923T150425Z
LAST-MODIFIED:20240923T165313Z
UID:3307-1731283200-1731369599@icepalace.ca
SUMMARY:WEM Revision
DESCRIPTION:WEM ice cancelled\, see revised schedule below:\n \nTerwillegar Rec Centre:\n11:15am-12:15pm – Sr A\n12:30-1:30pm – Sr A\n1:45-2:45pm – Int A/Sr B\n3:00-4:00pm – Int A/Sr B\n4:15-5:15pm – Int B \n**No off-ice classes\n**No 6:30-8:00am morning ice\n**The schedule above is only for skaters who are registered to skate on Mondays
URL:https://icepalace.ca/event/wem-revision-81/
END:VEVENT
BEGIN:VEVENT
DTSTART;VALUE=DATE:20241118
DTEND;VALUE=DATE:20241119
DTSTAMP:20260425T102635
CREATED:20240906T220112Z
LAST-MODIFIED:20241105T181347Z
UID:3278-1731888000-1731974399@icepalace.ca
SUMMARY:WEM Revision
DESCRIPTION:All ice cancelled. The ice below is for skaters competing at Skate Canada Challenge or Skate Canada Trophy (Singles only\, no Pair/Dance) \nTerwillegar Rec Centre:\n2:45-3:45pm – Freeskate\n4:00-5:00pm – Freeskate
URL:https://icepalace.ca/event/wem-revision-76/
END:VEVENT
BEGIN:VEVENT
DTSTART;VALUE=DATE:20241122
DTEND;VALUE=DATE:20241123
DTSTAMP:20260425T102635
CREATED:20240906T190659Z
LAST-MODIFIED:20240918T190549Z
UID:3267-1732233600-1732319999@icepalace.ca
SUMMARY:TRC Revision
DESCRIPTION:TRC ice moved to Callingwood Arena.  \n**Pair/Dance session will be from 3:45-4:45pm\n**No changes to Side A schedule\n**No off-ice harness lessons
URL:https://icepalace.ca/event/trc-revision-129/
END:VEVENT
BEGIN:VEVENT
DTSTART;VALUE=DATE:20241128
DTEND;VALUE=DATE:20241202
DTSTAMP:20260425T102635
CREATED:20240909T200457Z
LAST-MODIFIED:20240909T200457Z
UID:3290-1732752000-1733097599@icepalace.ca
SUMMARY:Skate Canada Challenge (Jr/Sr)
DESCRIPTION:Winnipeg\, MB
URL:https://icepalace.ca/event/skate-canada-challenge-jr-sr-2/
END:VEVENT
BEGIN:VEVENT
DTSTART;VALUE=DATE:20241204
DTEND;VALUE=DATE:20241205
DTSTAMP:20260425T102635
CREATED:20240906T220327Z
LAST-MODIFIED:20241202T181857Z
UID:3282-1733270400-1733356799@icepalace.ca
SUMMARY:Winter Classic
DESCRIPTION:Ice Palace Winter Classic\nClub Competition for Juniors\n**Regular schedule on Side B ends at 5:40pm
URL:https://icepalace.ca/event/winter-classic-2/
END:VEVENT
BEGIN:VEVENT
DTSTART;VALUE=DATE:20241205
DTEND;VALUE=DATE:20241206
DTSTAMP:20260425T102635
CREATED:20240906T220425Z
LAST-MODIFIED:20240906T220425Z
UID:3284-1733356800-1733443199@icepalace.ca
SUMMARY:WEM Revision
DESCRIPTION:WEM ice cancelled; see revised schedule below. \nTerwillegar Rec Centre\n6:30-8:00am – Regular schedule \nMeadows Arena\n12:30-7:45pm – Regular Schedule
URL:https://icepalace.ca/event/wem-revision-78/
END:VEVENT
BEGIN:VEVENT
DTSTART;VALUE=DATE:20241206
DTEND;VALUE=DATE:20241209
DTSTAMP:20260425T102635
CREATED:20240909T200531Z
LAST-MODIFIED:20240909T200531Z
UID:3291-1733443200-1733702399@icepalace.ca
SUMMARY:Star Series #2
DESCRIPTION:Camrose\, AB
URL:https://icepalace.ca/event/star-series-2-2/
END:VEVENT
BEGIN:VEVENT
DTSTART;VALUE=DATE:20241213
DTEND;VALUE=DATE:20241214
DTSTAMP:20260425T102635
CREATED:20240906T190813Z
LAST-MODIFIED:20241211T042137Z
UID:3268-1734048000-1734134399@icepalace.ca
SUMMARY:Christmas Party
DESCRIPTION:Family Skate & Christmas Party \n5:30-7:30pm @ Callingwood Arena\nCome for Skating\, Food\, Prizes\, and Fun!\nAll figure skaters and family members welcome! \nCLW-Side A:\nRegular schedule ends at 5:00pm \nCLW-Side B:\n3:45-4:45pm – Pair/Dance\n4:45-5:15pm – Int Dance \n**No off-ice classes\n**No off-ice harness lessons
URL:https://icepalace.ca/event/christmas-party-8/
END:VEVENT
BEGIN:VEVENT
DTSTART;VALUE=DATE:20241218
DTEND;VALUE=DATE:20241219
DTSTAMP:20260425T102635
CREATED:20240912T220125Z
LAST-MODIFIED:20241211T042724Z
UID:3298-1734480000-1734566399@icepalace.ca
SUMMARY:Test Day
DESCRIPTION:Test Day Schedule will be posted on our homepage.  See below for revised schedule. \nTCB:\n1:00-2:00pm – Sr A\, Pair/Dance Teams\n2:15-7:30pm – Assessment Day \nTCA:\n2:30-3:15pm – Sr A\n3:30-4:15pm – Sr A/B\n4:15-5:15pm – Int B\n5:30-6:45pm – Int A\, Sr A/B \nOff-ice:\n4:30-5:15pm – Int A\, Sr A/B \n**No training for Juniors\n**No off-ice harness lessons
URL:https://icepalace.ca/event/test-day-29/
END:VEVENT
BEGIN:VEVENT
DTSTART;VALUE=DATE:20241221
DTEND;VALUE=DATE:20250106
DTSTAMP:20260425T102635
CREATED:20240909T200143Z
LAST-MODIFIED:20241126T045435Z
UID:3286-1734739200-1736121599@icepalace.ca
SUMMARY:Christmas Break/Christmas Camp
DESCRIPTION:Christmas Break is from December 21 – January 5.  The last day of regular schedule before the break is December 20. \nChristmas Camp ice schedule is posted on the homepage.
URL:https://icepalace.ca/event/christmas-break-christmas-camp-7/
END:VEVENT
BEGIN:VEVENT
DTSTART;VALUE=DATE:20250114
DTEND;VALUE=DATE:20250120
DTSTAMP:20260425T102635
CREATED:20240909T200609Z
LAST-MODIFIED:20240909T200609Z
UID:3292-1736812800-1737331199@icepalace.ca
SUMMARY:National Championships
DESCRIPTION:Laval\, QC
URL:https://icepalace.ca/event/national-championships-6/
END:VEVENT
BEGIN:VEVENT
DTSTART;VALUE=DATE:20250206
DTEND;VALUE=DATE:20250210
DTSTAMP:20260425T102635
CREATED:20240909T200750Z
LAST-MODIFIED:20250124T215215Z
UID:3294-1738800000-1739145599@icepalace.ca
SUMMARY:Skate Canada Trophy
DESCRIPTION:Edmonton\, AB
URL:https://icepalace.ca/event/skate-canada-challenge-pre-nov-nov-2/
END:VEVENT
BEGIN:VEVENT
DTSTART;VALUE=DATE:20250207
DTEND;VALUE=DATE:20250208
DTSTAMP:20260425T102635
CREATED:20240906T190856Z
LAST-MODIFIED:20240906T190856Z
UID:3269-1738886400-1738972799@icepalace.ca
SUMMARY:TRC Revision
DESCRIPTION:TRC ice moved to Callingwood Arena; revised schedule below \nCLW-Side A:\n12:30-5:00pm – Regular schedule\n5:15-6:15pm – Int B Freeskate & Stroking\n6:00-7:30pm – Regular schedule (no changes to Junior schedule) \nCLW-Side B:\n3:45-4:45pm – Pair/Dance
URL:https://icepalace.ca/event/trc-revision-130/
END:VEVENT
BEGIN:VEVENT
DTSTART;VALUE=DATE:20250213
DTEND;VALUE=DATE:20250214
DTSTAMP:20260425T102635
CREATED:20250124T201721Z
LAST-MODIFIED:20250124T201721Z
UID:3350-1739404800-1739491199@icepalace.ca
SUMMARY:WEM Revision
DESCRIPTION:All ice cancelled
URL:https://icepalace.ca/event/wem-revision-82/
END:VEVENT
END:VCALENDAR