BEGIN:VCALENDAR
VERSION:2.0
PRODID:-//Ice Palace FSC - ECPv6.15.20//NONSGML v1.0//EN
CALSCALE:GREGORIAN
METHOD:PUBLISH
X-WR-CALNAME:Ice Palace FSC
X-ORIGINAL-URL:https://icepalace.ca
X-WR-CALDESC:Events for Ice Palace FSC
REFRESH-INTERVAL;VALUE=DURATION:PT1H
X-Robots-Tag:noindex
X-PUBLISHED-TTL:PT1H
BEGIN:VTIMEZONE
TZID:America/Edmonton
BEGIN:DAYLIGHT
TZOFFSETFROM:-0700
TZOFFSETTO:-0600
TZNAME:MDT
DTSTART:20220313T090000
END:DAYLIGHT
BEGIN:STANDARD
TZOFFSETFROM:-0600
TZOFFSETTO:-0700
TZNAME:MST
DTSTART:20221106T080000
END:STANDARD
BEGIN:DAYLIGHT
TZOFFSETFROM:-0700
TZOFFSETTO:-0600
TZNAME:MDT
DTSTART:20230312T090000
END:DAYLIGHT
BEGIN:STANDARD
TZOFFSETFROM:-0600
TZOFFSETTO:-0700
TZNAME:MST
DTSTART:20231105T080000
END:STANDARD
BEGIN:DAYLIGHT
TZOFFSETFROM:-0700
TZOFFSETTO:-0600
TZNAME:MDT
DTSTART:20240310T090000
END:DAYLIGHT
BEGIN:STANDARD
TZOFFSETFROM:-0600
TZOFFSETTO:-0700
TZNAME:MST
DTSTART:20241103T080000
END:STANDARD
END:VTIMEZONE
BEGIN:VEVENT
DTSTART;VALUE=DATE:20230601
DTEND;VALUE=DATE:20230603
DTSTAMP:20260425T102312
CREATED:20230525T171637Z
LAST-MODIFIED:20230525T171702Z
UID:2991-1685577600-1685750399@icepalace.ca
SUMMARY:Keegan Murphy Seminar
DESCRIPTION:Regular schedule is revised to accommodate the seminar;\nsee seminar schedule on the homepage.
URL:https://icepalace.ca/event/keegan-murphy-seminar/
END:VEVENT
BEGIN:VEVENT
DTSTART;VALUE=DATE:20230623
DTEND;VALUE=DATE:20230624
DTSTAMP:20260425T102312
CREATED:20230321T030952Z
LAST-MODIFIED:20230321T231203Z
UID:2942-1687478400-1687564799@icepalace.ca
SUMMARY:TRC Revision
DESCRIPTION:Terwillegar Side C ice ends at 5:45pm.  Int B sessions are cancelled from 6:00-7:15pm.
URL:https://icepalace.ca/event/trc-revision-108/
END:VEVENT
BEGIN:VEVENT
DTSTART;VALUE=DATE:20230629
DTEND;VALUE=DATE:20230630
DTSTAMP:20260425T102312
CREATED:20220901T215238Z
LAST-MODIFIED:20230321T030605Z
UID:2841-1687996800-1688083199@icepalace.ca
SUMMARY:2022- 2023 Skating School ends
DESCRIPTION:
URL:https://icepalace.ca/event/2022-2023-skating-school-ends/
END:VEVENT
END:VCALENDAR