BEGIN:VCALENDAR
VERSION:2.0
PRODID:-//Ice Palace FSC - ECPv6.15.20//NONSGML v1.0//EN
CALSCALE:GREGORIAN
METHOD:PUBLISH
X-WR-CALNAME:Ice Palace FSC
X-ORIGINAL-URL:https://icepalace.ca
X-WR-CALDESC:Events for Ice Palace FSC
REFRESH-INTERVAL;VALUE=DURATION:PT1H
X-Robots-Tag:noindex
X-PUBLISHED-TTL:PT1H
BEGIN:VTIMEZONE
TZID:America/Edmonton
BEGIN:DAYLIGHT
TZOFFSETFROM:-0700
TZOFFSETTO:-0600
TZNAME:MDT
DTSTART:20220313T090000
END:DAYLIGHT
BEGIN:STANDARD
TZOFFSETFROM:-0600
TZOFFSETTO:-0700
TZNAME:MST
DTSTART:20221106T080000
END:STANDARD
BEGIN:DAYLIGHT
TZOFFSETFROM:-0700
TZOFFSETTO:-0600
TZNAME:MDT
DTSTART:20230312T090000
END:DAYLIGHT
BEGIN:STANDARD
TZOFFSETFROM:-0600
TZOFFSETTO:-0700
TZNAME:MST
DTSTART:20231105T080000
END:STANDARD
BEGIN:DAYLIGHT
TZOFFSETFROM:-0700
TZOFFSETTO:-0600
TZNAME:MDT
DTSTART:20240310T090000
END:DAYLIGHT
BEGIN:STANDARD
TZOFFSETFROM:-0600
TZOFFSETTO:-0700
TZNAME:MST
DTSTART:20241103T080000
END:STANDARD
END:VTIMEZONE
BEGIN:VEVENT
DTSTART;VALUE=DATE:20230703
DTEND;VALUE=DATE:20230704
DTSTAMP:20260425T102211
CREATED:20230321T031023Z
LAST-MODIFIED:20230321T031023Z
UID:2943-1688342400-1688428799@icepalace.ca
SUMMARY:Summer Camp begins
DESCRIPTION:
URL:https://icepalace.ca/event/summer-camp-begins-9/
END:VEVENT
BEGIN:VEVENT
DTSTART;VALUE=DATE:20230705
DTEND;VALUE=DATE:20230706
DTSTAMP:20260425T102211
CREATED:20230406T213644Z
LAST-MODIFIED:20230406T213644Z
UID:2959-1688515200-1688601599@icepalace.ca
SUMMARY:80's Day
DESCRIPTION:Prizes will be awarded for creativity; skaters must be able to train in their costumes
URL:https://icepalace.ca/event/80s-day-4/
END:VEVENT
BEGIN:VEVENT
DTSTART;VALUE=DATE:20230712
DTEND;VALUE=DATE:20230713
DTSTAMP:20260425T102211
CREATED:20230406T213634Z
LAST-MODIFIED:20230406T213634Z
UID:2960-1689120000-1689206399@icepalace.ca
SUMMARY:Iconic Duos Day
DESCRIPTION:Prizes will be awarded for creativity; skaters must be able to train in their costumes
URL:https://icepalace.ca/event/iconic-duos-day-4/
END:VEVENT
BEGIN:VEVENT
DTSTART;VALUE=DATE:20230713
DTEND;VALUE=DATE:20230714
DTSTAMP:20260425T102211
CREATED:20230405T212957Z
LAST-MODIFIED:20230405T212957Z
UID:2966-1689206400-1689292799@icepalace.ca
SUMMARY:TRC Revision
DESCRIPTION:TRC ice moved to Callingwood Arena;  revised schedule below \nCallingwood Arena\n7:30-8:30am – Int Freeskate\n8:45am-4:30pm – Regular Schedule for Sr A\, Sr B\, and Jr \n**No skating for Pair / Dance\n**Int off-ice Fitness will be from 9:30-10:30am and Int Jump Class will be from 11:00-11:30am\n**No off-ice harness lessons
URL:https://icepalace.ca/event/trc-revision-109/
END:VEVENT
BEGIN:VEVENT
DTSTART;VALUE=DATE:20230714
DTEND;VALUE=DATE:20230715
DTSTAMP:20260425T102211
CREATED:20230406T213615Z
LAST-MODIFIED:20230627T182603Z
UID:2967-1689292800-1689379199@icepalace.ca
SUMMARY:AGM & Summer Pizza Party
DESCRIPTION:Pizza Party will take place from 5:00-7:00pm @ Terwillegar Arena\nAnnual General Meeting will take place from 5:30-6:15pm @TRC. All members are encouraged to attend!
URL:https://icepalace.ca/event/agm-summer-pizza-party-2/
END:VEVENT
BEGIN:VEVENT
DTSTART;VALUE=DATE:20230719
DTEND;VALUE=DATE:20230720
DTSTAMP:20260425T102211
CREATED:20230406T213606Z
LAST-MODIFIED:20230418T190752Z
UID:2961-1689724800-1689811199@icepalace.ca
SUMMARY:Wacky Hair Day
DESCRIPTION:Prizes will be awarded for creativity; skaters must be able to train in their costumes
URL:https://icepalace.ca/event/wacky-hair-day-6/
END:VEVENT
BEGIN:VEVENT
DTSTART;VALUE=DATE:20230726
DTEND;VALUE=DATE:20230727
DTSTAMP:20260425T102211
CREATED:20230405T213054Z
LAST-MODIFIED:20230418T191058Z
UID:2968-1690329600-1690415999@icepalace.ca
SUMMARY:Competition Simulations - Int\, Sr\, Dance and Pair Teams
DESCRIPTION:Simulations for Int\, Sr\, Dance\, and Pair Teams
URL:https://icepalace.ca/event/competition-simulations-int-sr-2/
END:VEVENT
BEGIN:VEVENT
DTSTART;VALUE=DATE:20230728
DTEND;VALUE=DATE:20230729
DTSTAMP:20260425T102211
CREATED:20230406T213555Z
LAST-MODIFIED:20230406T213555Z
UID:2962-1690502400-1690588799@icepalace.ca
SUMMARY:Wild West Day
DESCRIPTION:Prizes will be awarded for creativity; skaters must be able to train in their costumes
URL:https://icepalace.ca/event/wild-west-day-4/
END:VEVENT
BEGIN:VEVENT
DTSTART;VALUE=DATE:20230731
DTEND;VALUE=DATE:20230801
DTSTAMP:20260425T102211
CREATED:20230406T213539Z
LAST-MODIFIED:20230406T213544Z
UID:2969-1690761600-1690847999@icepalace.ca
SUMMARY:Artistic Showcase
DESCRIPTION:2:30-3:00pm @ Terwillegar Arena Int\, Sr B\, Sr A \n**Parents – please come and watch the show!!!\n**Sr A Freeskate moved to 3:00-3:45pm
URL:https://icepalace.ca/event/artistic-showcase-5/
END:VEVENT
END:VCALENDAR