BEGIN:VCALENDAR
VERSION:2.0
PRODID:-//Ice Palace FSC - ECPv6.15.20//NONSGML v1.0//EN
CALSCALE:GREGORIAN
METHOD:PUBLISH
X-ORIGINAL-URL:https://icepalace.ca
X-WR-CALDESC:Events for Ice Palace FSC
REFRESH-INTERVAL;VALUE=DURATION:PT1H
X-Robots-Tag:noindex
X-PUBLISHED-TTL:PT1H
BEGIN:VTIMEZONE
TZID:America/Edmonton
BEGIN:DAYLIGHT
TZOFFSETFROM:-0700
TZOFFSETTO:-0600
TZNAME:MDT
DTSTART:20220313T090000
END:DAYLIGHT
BEGIN:STANDARD
TZOFFSETFROM:-0600
TZOFFSETTO:-0700
TZNAME:MST
DTSTART:20221106T080000
END:STANDARD
BEGIN:DAYLIGHT
TZOFFSETFROM:-0700
TZOFFSETTO:-0600
TZNAME:MDT
DTSTART:20230312T090000
END:DAYLIGHT
BEGIN:STANDARD
TZOFFSETFROM:-0600
TZOFFSETTO:-0700
TZNAME:MST
DTSTART:20231105T080000
END:STANDARD
BEGIN:DAYLIGHT
TZOFFSETFROM:-0700
TZOFFSETTO:-0600
TZNAME:MDT
DTSTART:20240310T090000
END:DAYLIGHT
BEGIN:STANDARD
TZOFFSETFROM:-0600
TZOFFSETTO:-0700
TZNAME:MST
DTSTART:20241103T080000
END:STANDARD
END:VTIMEZONE
BEGIN:VEVENT
DTSTART;VALUE=DATE:20230901
DTEND;VALUE=DATE:20230902
DTSTAMP:20260425T072221
CREATED:20230830T212404Z
LAST-MODIFIED:20230830T212404Z
UID:3042-1693526400-1693612799@icepalace.ca
SUMMARY:2023-24 Skating School begins
DESCRIPTION:
URL:https://icepalace.ca/event/2023-24-skating-school-begins/
END:VEVENT
BEGIN:VEVENT
DTSTART;VALUE=DATE:20230929
DTEND;VALUE=DATE:20230930
DTSTAMP:20260425T072221
CREATED:20230830T212517Z
LAST-MODIFIED:20230830T212517Z
UID:3043-1695945600-1696031999@icepalace.ca
SUMMARY:TRC Revision
DESCRIPTION:All ice cancelled
URL:https://icepalace.ca/event/trc-revision-111/
END:VEVENT
BEGIN:VEVENT
DTSTART;VALUE=DATE:20230929
DTEND;VALUE=DATE:20231002
DTSTAMP:20260425T072221
CREATED:20230913T195253Z
LAST-MODIFIED:20230913T200505Z
UID:3065-1695945600-1696204799@icepalace.ca
SUMMARY:Sask Skate Competition
DESCRIPTION:Regina\, SK
URL:https://icepalace.ca/event/sask-skate-competition-3/
END:VEVENT
BEGIN:VEVENT
DTSTART;VALUE=DATE:20230930
DTEND;VALUE=DATE:20231001
DTSTAMP:20260425T072221
CREATED:20230830T212550Z
LAST-MODIFIED:20230913T202217Z
UID:3044-1696032000-1696118399@icepalace.ca
SUMMARY:CLW & KMN Revision
DESCRIPTION:Callingwood & Kinsmen ice cancelled
URL:https://icepalace.ca/event/clw-kmn-revision-9/
END:VEVENT
END:VCALENDAR