BEGIN:VCALENDAR
VERSION:2.0
PRODID:-//Ice Palace FSC - ECPv6.15.20//NONSGML v1.0//EN
CALSCALE:GREGORIAN
METHOD:PUBLISH
X-ORIGINAL-URL:https://icepalace.ca
X-WR-CALDESC:Events for Ice Palace FSC
REFRESH-INTERVAL;VALUE=DURATION:PT1H
X-Robots-Tag:noindex
X-PUBLISHED-TTL:PT1H
BEGIN:VTIMEZONE
TZID:America/Edmonton
BEGIN:DAYLIGHT
TZOFFSETFROM:-0700
TZOFFSETTO:-0600
TZNAME:MDT
DTSTART:20240310T090000
END:DAYLIGHT
BEGIN:STANDARD
TZOFFSETFROM:-0600
TZOFFSETTO:-0700
TZNAME:MST
DTSTART:20241103T080000
END:STANDARD
BEGIN:DAYLIGHT
TZOFFSETFROM:-0700
TZOFFSETTO:-0600
TZNAME:MDT
DTSTART:20250309T090000
END:DAYLIGHT
BEGIN:STANDARD
TZOFFSETFROM:-0600
TZOFFSETTO:-0700
TZNAME:MST
DTSTART:20251102T080000
END:STANDARD
BEGIN:DAYLIGHT
TZOFFSETFROM:-0700
TZOFFSETTO:-0600
TZNAME:MDT
DTSTART:20260308T090000
END:DAYLIGHT
BEGIN:STANDARD
TZOFFSETFROM:-0600
TZOFFSETTO:-0700
TZNAME:MST
DTSTART:20261101T080000
END:STANDARD
BEGIN:DAYLIGHT
TZOFFSETFROM:-0700
TZOFFSETTO:-0600
TZNAME:MDT
DTSTART:20270314T090000
END:DAYLIGHT
BEGIN:STANDARD
TZOFFSETFROM:-0600
TZOFFSETTO:-0700
TZNAME:MST
DTSTART:20271107T080000
END:STANDARD
END:VTIMEZONE
BEGIN:VEVENT
DTSTART;VALUE=DATE:20251203
DTEND;VALUE=DATE:20251204
DTSTAMP:20260424T034601
CREATED:20250827T204444Z
LAST-MODIFIED:20250827T204444Z
UID:3531-1764720000-1764806399@icepalace.ca
SUMMARY:Winter Classic
DESCRIPTION:Ice Palace Winter Classic\nClub Competition for Juniors\n**6:00pm Spin Session canceled on Side B
URL:https://icepalace.ca/event/winter-classic-3/
END:VEVENT
BEGIN:VEVENT
DTSTART;VALUE=DATE:20251205
DTEND;VALUE=DATE:20251208
DTSTAMP:20260424T034601
CREATED:20250827T205739Z
LAST-MODIFIED:20250827T205739Z
UID:3545-1764892800-1765151999@icepalace.ca
SUMMARY:Star Series #2
DESCRIPTION:St Albert\, AB
URL:https://icepalace.ca/event/star-series-2-3/
END:VEVENT
BEGIN:VEVENT
DTSTART;VALUE=DATE:20251212
DTEND;VALUE=DATE:20251213
DTSTAMP:20260424T034601
CREATED:20250827T202339Z
LAST-MODIFIED:20250902T004540Z
UID:3518-1765497600-1765583999@icepalace.ca
SUMMARY:Christmas Party
DESCRIPTION:Family Skate & Christmas Party\n5:30-7:30pm @ Callingwood Arena\nCome for Skating\, Food\, Prizes\, and Fun!\nAll figure skaters and family members welcome! \n**Regular schedule moved to Callingwood Arena and ends at 5:15pm\n**No off-ice classes\n**No off-ice harness lessons
URL:https://icepalace.ca/event/christmas-party-9/
END:VEVENT
BEGIN:VEVENT
DTSTART;VALUE=DATE:20251217
DTEND;VALUE=DATE:20251218
DTSTAMP:20260424T034601
CREATED:20250827T204600Z
LAST-MODIFIED:20251211T171558Z
UID:3532-1765929600-1766015999@icepalace.ca
SUMMARY:Test Day
DESCRIPTION:**Regular schedule on Side A is canceled from 3:25-8:15pm\n**No changes to Side B schedule (no changes for Jr\, Int A\, and Sr)
URL:https://icepalace.ca/event/test-day-34/
END:VEVENT
BEGIN:VEVENT
DTSTART;VALUE=DATE:20251218
DTEND;VALUE=DATE:20251219
DTSTAMP:20260424T034601
CREATED:20250827T204846Z
LAST-MODIFIED:20251030T152558Z
UID:3536-1766016000-1766102399@icepalace.ca
SUMMARY:Christmas Show
DESCRIPTION:Ice Palace Holiday Spectacular\n6:30-7:30pm @ WEM\nRehearsal schedule will be posted in November
URL:https://icepalace.ca/event/christmas-show-8/
END:VEVENT
BEGIN:VEVENT
DTSTART;VALUE=DATE:20251221
DTEND;VALUE=DATE:20260105
DTSTAMP:20260424T034601
CREATED:20250827T205340Z
LAST-MODIFIED:20250905T181421Z
UID:3540-1766275200-1767571199@icepalace.ca
SUMMARY:Christmas Break/Christmas Camp
DESCRIPTION:Christmas Break is from December 21 – January 4. The last day of skating before the break is December 20. We will have our Christmas Camp from December 29 – January 2; schedule TBA.
URL:https://icepalace.ca/event/christmas-break-christmas-camp-8/
END:VEVENT
END:VCALENDAR